BEGIN:VCALENDAR
VERSION:2.0
PRODID:-//jEvents 2.0 for Joomla//EN
CALSCALE:GREGORIAN
METHOD:PUBLISH
BEGIN:VEVENT
UID:3ec66569602485a9153e1db12a18d4e6
CATEGORIES:Dla dorosłych, Dla dzieci i młodzieży
CREATED:20251125T135035
SUMMARY:Zgrajmy Się! Rozgrywki planszówkowe dla wszystkich w bibliotece  
LOCATION:DBP, Rynek 58, piętro 3, sala 35
DESCRIPTION;ENCODING=QUOTED-PRINTABLE:\n\nZgrajmy Się! Rozgrywki planszówkowe dla wszystkich w bibliotece \n25 cz
 erwca 2026 | godz. 16:00-21:00 \nDBP | Rynek 58\nwstęp wolny\n\nZapraszamy 
 na otwarte, comiesięczne spotkania z grami planszowymi, które odbywają się 
 w każdy ostatni czwartek miesiąca od godziny 16:00 do 21:00 w sali 35!\n\n\
 nTo świetna okazja, aby:\n\n - Poznać nowe gry planszowe i nauczyć się zasa
 d,\n - Spędzić czas w miłym towarzystwie,\n - Odkryć tytuły dostępne w nasz
 ej kolekcji do wypożyczenia.\n\nSpotkania są otwarte dla wszystkich – bez w
 zględu na wiek czy doświadczenie w grach. Możesz przyjść sam, z rodziną lub
  przyjaciółmi.\n\n\nChętnie doradzamy przy wyborze gry oraz tłumaczymy zasa
 dy.\n\n\nNa każdym spotkaniu mamy do zaoferowania nowe tytuły!\n\n\nDo zoba
 czenia przy planszy!\n\n\n&nbsp;\n\n\nFacebook: Zgrajmy się, planszówki w B
 ibliotece Dolnośląskiej\n




CONTACT:RegularLabs.EmailProtector.unCloak("ep_1025c54c");
DTSTAMP:20260419T173437Z
DTSTART;TZID=UTC:20260625T160000
DTEND;TZID=UTC:20260625T210000
SEQUENCE:0
TRANSP:OPAQUE
END:VEVENT
END:VCALENDAR