BEGIN:VCALENDAR
VERSION:2.0
PRODID:-//jEvents 2.0 for Joomla//EN
CALSCALE:GREGORIAN
METHOD:PUBLISH
BEGIN:VEVENT
UID:126ea6c7b55421f949b3dfeed76ba931
CATEGORIES:Dla dorosłych, Dla dzieci i młodzieży
CREATED:20251125T134831
SUMMARY:Zgrajmy Się! Rozgrywki planszówkowe dla wszystkich w bibliotece  
LOCATION:DBP, Rynek 58, piętro 3, sala 35
DESCRIPTION;ENCODING=QUOTED-PRINTABLE:<p><span style="font-size: 11pt;"><strong>Zgrajmy Się! Rozgrywki planszówko
 we dla wszystkich w bibliotece </strong></span></p><div class="default-styl
 e"><span style="font-size: 11pt;"><strong>26 lutego 2026 | godz. 16:00-21:0
 0 <br /></strong></span></div><div class="default-style"><span style="font-
 size: 11pt;"><strong>DBP | Rynek 58<br /></strong></span></div><div class="
 default-style"><span style="font-size: 11pt;"><strong>wstęp wolny</strong><
 /span></div><div><span style="font-size: 11pt;"></span></div><div><p><span 
 style="font-size: 11pt;">Zapraszamy na otwarte, comiesięczne spotkania z gr
 ami planszowymi, które odbywają się w każdy ostatni czwartek miesiąca od go
 dziny 16:00 do 21:00 w sali 35!</span></p><p><span style="font-size: 11pt;"
 >To świetna okazja, aby:</span></p><ul><li><span style="font-size: 11pt;">P
 oznać nowe gry planszowe i nauczyć się zasad,</span></li><li><span style="f
 ont-size: 11pt;">Spędzić czas w miłym towarzystwie,</span></li><li><span st
 yle="font-size: 11pt;">Odkryć tytuły dostępne w naszej kolekcji do wypożycz
 enia.</span></li></ul><p><span style="font-size: 11pt;">Spotkania są otwart
 e dla wszystkich – bez względu na wiek czy doświadczenie w grach. Możesz pr
 zyjść sam, z rodziną lub przyjaciółmi.</span></p><p><span style="font-size:
  11pt;">Chętnie doradzamy przy wyborze gry oraz tłumaczymy zasady.</span></
 p><p><span style="font-size: 11pt;">Na każdym spotkaniu mamy do zaoferowani
 a nowe tytuły!</span></p><p><span style="font-size: 11pt;">Do zobaczenia pr
 zy planszy!</span></p><p>&nbsp;</p><p><span style="font-size: 11pt;"><stron
 g>Facebook</strong>: <a href="https://www.facebook.com/zgrajmysiewdolnoslas
 kiej">Zgrajmy się, planszówki w Bibliotece Dolnośląskiej</a></span></p></di
 v><div class="attachmentsContainer">

<div class="dbpAttachmentsList" id="a
 ttachmentsList_com_jevents_default_3015"></div>

</div>
CONTACT:RegularLabs.EmailProtector.unCloak("ep_cf881fef");
DTSTAMP:20260419T173550Z
DTSTART;TZID=UTC:20260226T160000
DTEND;TZID=UTC:20260226T210000
SEQUENCE:0
TRANSP:OPAQUE
END:VEVENT
END:VCALENDAR