BEGIN:VCALENDAR
VERSION:2.0
PRODID:-//jEvents 2.0 for Joomla//EN
CALSCALE:GREGORIAN
METHOD:PUBLISH
BEGIN:VEVENT
UID:a3d5e1c2f89cedba114dc8f90553f220
CATEGORIES:Dla dorosłych, Spotkanie klubowe
CREATED:20251010T090357
SUMMARY:Dyskusyjny Klub Książki Zekranizowanej
LOCATION:DBP, Rynek 58
DESCRIPTION;ENCODING=QUOTED-PRINTABLE:DYSKUSYJNY KLUB KSIĄŻKI ZEKRANIZOWANEJ\n11 marca 2026 | godz. 17:00\nDBP | 
 Rynek 58 |\nwstęp wolny\n&nbsp;\n\nJeśli lubisz poznawać historię najpierw 
 z kart książki, a dopiero później oglądać jej ekranizację, to spotkania nas
 zego Klubu są właśnie dla Ciebie! To przestrzeń dla osób, które cenią zarów
 no literaturę, jak i kino, i chcą porównywać, analizować oraz dyskutować o 
 tym, co zmienia się w przejściu od słowa do obrazu.\n\n\nPodczas naszych sp
 otkań sięgamy po powieści, które zostały przeniesione na ekran – zarówno te
  nowe, ekranizowane przez platformy streamingowe, jak i klasyczne dzieła, k
 tóre od lat inspirują twórców filmowych. Czy film może być lepszy od książk
 i? A może to właśnie książka jest zawsze bardziej szczegółowa, głębsza, bog
 atsza w sensy? Te i inne pytania stawiamy sobie, rozmawiając o obu wersjach
  tej samej opowieści.\n




CONTACT:RegularLabs.EmailProtector.unCloak("ep_8d458128");; RegularLabs.EmailProtector.unCloak("ep_ba87f3a6");
DTSTAMP:20260419T160725Z
DTSTART;TZID=UTC:20260311T170000
DTEND;TZID=UTC:20260311T180000
SEQUENCE:0
TRANSP:OPAQUE
END:VEVENT
END:VCALENDAR