BEGIN:VCALENDAR
VERSION:2.0
PRODID:-//jEvents 2.0 for Joomla//EN
CALSCALE:GREGORIAN
METHOD:PUBLISH
BEGIN:VEVENT
UID:69f72505448d2f5e03ef5c3e3d3c6c1e
CATEGORIES:Dla dorosłych, Spotkanie klubowe
CREATED:20251010T090323
SUMMARY:Dyskusyjny Klub Książki Zekranizowanej
LOCATION:DBP, Rynek 58
DESCRIPTION;ENCODING=QUOTED-PRINTABLE:DYSKUSYJNY KLUB KSIĄŻKI ZEKRANIZOWANEJ\n11 lutego 2026 | godz. 17:00\nDBP |
  Rynek 58 |\nwstęp wolny\n&nbsp;\n\nJeśli lubisz poznawać historię najpierw
  z kart książki, a dopiero później oglądać jej ekranizację, to spotkania na
 szego Klubu są właśnie dla Ciebie! To przestrzeń dla osób, które cenią zaró
 wno literaturę, jak i kino, i chcą porównywać, analizować oraz dyskutować o
  tym, co zmienia się w przejściu od słowa do obrazu.\n\n\nPodczas naszych s
 potkań sięgamy po powieści, które zostały przeniesione na ekran – zarówno t
 e nowe, ekranizowane przez platformy streamingowe, jak i klasyczne dzieła, 
 które od lat inspirują twórców filmowych. Czy film może być lepszy od książ
 ki? A może to właśnie książka jest zawsze bardziej szczegółowa, głębsza, bo
 gatsza w sensy? Te i inne pytania stawiamy sobie, rozmawiając o obu wersjac
 h tej samej opowieści.\n




CONTACT:RegularLabs.EmailProtector.unCloak("ep_bba1b075");; RegularLabs.EmailProtector.unCloak("ep_4cf4fd4f");
DTSTAMP:20260419T171308Z
DTSTART;TZID=UTC:20260211T170000
DTEND;TZID=UTC:20260211T180000
SEQUENCE:0
TRANSP:OPAQUE
END:VEVENT
END:VCALENDAR