BEGIN:VCALENDAR
VERSION:2.0
PRODID:-//jEvents 2.0 for Joomla//EN
CALSCALE:GREGORIAN
METHOD:PUBLISH
BEGIN:VEVENT
UID:f7d3aa80c4e39d277736dc66625e7590
CATEGORIES:Dla dorosłych, Spotkanie klubowe
CREATED:20250625T074228
SUMMARY: DKK Zaczytany Rynek 58
LOCATION:DBP | Rynek 58 | I piętro | Biblioteka Niemiecka
DESCRIPTION;ENCODING=QUOTED-PRINTABLE:<p><strong>Dyskusyjny Klub Książki "Zaczytany Rynek 58"</strong></p><p clas
 s="default-style"><strong>18 marca 2026 | godz. 16:15<br /></strong></p><p 
 class="default-style"><strong>DBP | Rynek 58 | I piętro | Biblioteka Niemie
 cka</strong></p><p style="text-align: justify;">&nbsp;</p><p style="text-al
 ign: justify;">Zapraszamy do kamienicy przy Rynku 58, gdzie każda książka k
 ryje w sobie wyjątkową i niepowtarzalną opowieść.</p><p style="text-align: 
 justify;">Nasz Dyskusyjny Klub Książki jest przeznaczony dla dorosłych miło
 śników literatury, ze szczególnym uwzględnieniem biografii, reportaży oraz 
 książek historycznych. Spotkania mają charakter otwarty, dlatego każdy zain
 teresowany może dołączyć do naszych rozmów.</p><p style="text-align: justif
 y;">Spotykamy się raz w miesiącu, a forma spotkań bywa różnorodna – czasem 
 są to wykłady, jednak szczególnie zachęcamy do aktywnej dyskusji i wymiany 
 opinii w gronie pasjonatów literatury.</p><p>Przetrwała trzy lata. Setki go
 dzin przesłuchań, tortury, głód, pranie mózgu, zimno i noce w jaskrawym świ
 etle neonówek. Nazywa się Gulbahar Haitiwaji, jest pierwszą ujgurską kobiet
 a, która została zwolniona z chińskiego obozu reedukacyjnego i odważyła się
  o tym opowiedzieć.&nbsp;<strong><em>„Ocalała z chińskiego gułagu” – Gulbah
 ar Haitiwaji i Rozenn Morgat</em></strong> to temat na marcowe spotkanie: <
 strong><em>„Zaczytanego Rynku 58”.</em></strong></p><p style="text-align: j
 ustify;">Serdecznie zapraszamy do udziału w dyskusji!</p><p>&nbsp;</p><p>In
 formacje na temat dostepności oraz dojazdu do Biblioteki dostępne są na str
 onie <a href="pl/deklaracja-dostepnosci#dojazd">https://www.wbp.wroc.pl/wbp
 /pl/deklaracja-dostepnosci#dojazd</a></p><p>&nbsp;</p><div class="attachmen
 tsContainer">

<div class="dbpAttachmentsList" id="attachmentsList_com_jeve
 nts_default_2916"></div>

</div>
CONTACT:RegularLabs.EmailProtector.unCloak("ep_2ebfdc4d"); 
X-EXTRAINFO:wstęp wolny
DTSTAMP:20260419T161021Z
DTSTART;TZID=UTC:20260318T161500
SEQUENCE:0
TRANSP:OPAQUE
END:VEVENT
END:VCALENDAR