BEGIN:VCALENDAR
VERSION:2.0
PRODID:-//jEvents 2.0 for Joomla//EN
CALSCALE:GREGORIAN
METHOD:PUBLISH
BEGIN:VEVENT
UID:61c2a611dbd79c008a43dcccc7f61d1c
CATEGORIES:Dla dorosłych, Spotkanie klubowe
CREATED:20250625T074118
SUMMARY: DKK Zaczytany Rynek 58
LOCATION:DBP | Rynek 58 | I piętro | Biblioteka Niemiecka
DESCRIPTION;ENCODING=QUOTED-PRINTABLE:\n\nDyskusyjny Klub Książki "Zaczytany Rynek 58"\n18 lutego 2026 | godz. 16
 :15\n\nDBP | Rynek 58 | I piętro | Biblioteka Niemiecka\n&nbsp;\nZapraszamy
  do kamienicy przy Rynku 58, gdzie każda książka kryje w sobie wyjątkową i 
 niepowtarzalną opowieść.\nNasz Dyskusyjny Klub Książki jest przeznaczony dl
 a dorosłych miłośników literatury, ze szczególnym uwzględnieniem biografii,
  reportaży oraz książek historycznych. Spotkania mają charakter otwarty, dl
 atego każdy zainteresowany może dołączyć do naszych rozmów.\nSpotykamy się 
 raz w miesiącu, a forma spotkań bywa różnorodna – czasem są to wykłady, jed
 nak szczególnie zachęcamy do aktywnej dyskusji i wymiany opinii w gronie pa
 sjonatów literatury.\n\n\nJeśli ktoś go nie zna, to znaczy, że urodził się 
 przed chwilą i jeszcze nie zdążył się rozejrzeć. Biografia inna niż większo
 ść dostępnych na rynku. Nazwisko zobowiązuje i uważane jest przez co niektó
 rych za kontrowersyjne. Czy książka też jest kontrowersyjna? Na to pytanie 
 znajdziemy odpowiedź w książce&nbsp;Grzegorza Brzozowicza pt.: „Wojciech Ce
 jrowski. Biografia 2024”.\nSerdecznie zapraszamy do udziału w dyskusji!\n\n
 \n&nbsp;\n\n\nInformacje na temat dostepności oraz dojazdu do Biblioteki do
 stępne są na stronie https://www.wbp.wroc.pl/wbp/pl/deklaracja-dostepnosci#
 dojazd\n\n\n&nbsp;\n




CONTACT:RegularLabs.EmailProtector.unCloak("ep_187e25d3"); 
X-EXTRAINFO:wstęp wolny
DTSTAMP:20260419T171310Z
DTSTART;TZID=UTC:20260218T161500
SEQUENCE:0
TRANSP:OPAQUE
END:VEVENT
END:VCALENDAR