BEGIN:VCALENDAR
VERSION:2.0
PRODID:-//jEvents 2.0 for Joomla//EN
CALSCALE:GREGORIAN
METHOD:PUBLISH
BEGIN:VEVENT
UID:8f5af41d703d9aa9c592dabe9e418618
CATEGORIES:Wykład 
CREATED:20250505T095701
SUMMARY:Bong Joon-ho: Filmowiec społecznie zaangażowany
LOCATION:Rynek 58 | Biblioteka Koreańska
DESCRIPTION;ENCODING=QUOTED-PRINTABLE:Bong Joon-ho: Filmowiec społecznie zaangażowany&nbsp;20.06.2025 | godz. 17:
 00DBP | Rynek 58 | Biblioteka Koreańska&nbsp;Nie będzie przesadą stwierdzen
 ie, że Joon-ho Bong jest nie tylko jednym z najbardziej rozpoznawalnych reż
 yserów filmowych, lecz także symbolem renesansu południowokoreańskiego kina
  i jego międzynarodowych sukcesów. Bong zaliczany jest do grona „komercyjny
 ch autorów” – twórców, którzy pracują w ramach kina mainstreamowego, czerpi
 ąc z popularnych gatunków filmowych, a jednocześnie dostarczają widzom dzie
 ł wartościowych artystycznie, z wyraźnym autorskim stylem, wyróżniających s
 ię na tle całej południowokoreańskiej kinematografii.\nPodczas prelekcji Da
 wid Głownia przybliży uczestnikom i uczestniczkom dorobek reżysera takich f
 ilmów jak „Parasite”, „Snowpiercer: Arka przyszłości”, „Zagadka zbrodni” or
 az niedawnego „Mickey 17”, opowie o przebiegu jego kariery oraz powracający
 ch w jego twórczości motywach i wątkach. Szczególny nacisk zostanie położon
 y na obecny w każdym filmie Bonga – niezależnie od tego, czy jest to thrill
 er, monster movie czy czarna komedia – aspekt społeczny, który stanowi wyra
 z jego wyjątkowej wrażliwości.\nDawid Głownia – doktor nauk o sztuce, praco
 wnik Instytutu Dziennikarstwa i Komunikacji Społecznej Uniwersytetu Wrocław
 skiego. Jego zainteresowania obejmują historię kina, ze szczególnym uwzględ
 nieniem kinematografii Japonii i Korei Południowej, marginesy światowego ki
 na gatunkowego, historię amerykańskiego komiksu oraz społeczną refleksję na
 d kulturą popularną. Autor dwóch książek o kinie japońskim oraz licznych ar
 tykułów naukowych. W wolnym czasie prowadzi fanpage i blog pod nazwą Pan Op
 tykon.\n&nbsp;




CONTACT:RegularLabs.EmailProtector.unCloak("ep_81bcf33d");
X-EXTRAINFO:wstęp wolny
DTSTAMP:20260419T133420Z
DTSTART;TZID=UTC:20250620T170000
DTEND;TZID=UTC:20250620T183000
SEQUENCE:0
TRANSP:OPAQUE
END:VEVENT
END:VCALENDAR