BEGIN:VCALENDAR
VERSION:2.0
PRODID:-//jEvents 2.0 for Joomla//EN
CALSCALE:GREGORIAN
METHOD:PUBLISH
BEGIN:VEVENT
UID:8ffcfef31ed7a3fffe9259eb606822b8
CATEGORIES:Dla dorosłych, Wykład 
CREATED:20250110T134030
SUMMARY:NIE SUKNIA ZDOBI KOBIETĘ: Kobiecą ręką tworzone – tradycje zaklęte w świętach Wielkiej Nocy
LOCATION:Sala 35, III piętro, DBP, Rynek 58
DESCRIPTION;ENCODING=QUOTED-PRINTABLE:<p style="text-align: justify;"><span style="color: #000000; font-size: 11p
 t;"><strong>NIE SUKNIA ZDOBI KOBIETĘ</strong></span></p><p style="text-alig
 n: justify;"><span style="color: #000000; font-size: 11pt;"><strong>Kobiecą
  ręką tworzone – tradycje zaklęte w świętach Wielkiej Nocy</strong> </span>
 </p><p style="text-align: justify;">&nbsp;</p><div class="default-style" st
 yle="text-align: justify;"><span style="color: #000000; font-size: 11pt;"><
 strong>8 kwietnia 2025 | godz. 17:00&nbsp;</strong></span></div><div class=
 "default-style" style="text-align: justify;"><span style="color: #000000; f
 ont-size: 11pt;"><strong>DBP | Rynek 58 | III piętro | sala 35</strong></sp
 an></div><div class="default-style" style="text-align: justify;"><span styl
 e="color: #000000; font-size: 11pt;"><strong>wstęp wolny</strong></span></d
 iv><div style="text-align: justify;">&nbsp;</div><div style="text-align: ju
 stify;">&nbsp;</div><p style="text-align: justify;"><span style="color: #00
 0000; font-size: 11pt;">Istota kobiecości od zawsze była dla człowieka źród
 łem fascynacji i polem do dyskusji. Przez wieki zmieniały się kanony kobiec
 ego piękna, sposoby wychowania dziewcząt, ich zainteresowania i status społ
 eczny. Jednak od zawsze wiadomo również było, <strong>że <em>kobietę zdobi 
 nie tylko jej suknia</em></strong> – wygląd fizyczny, poziom edukacji czy m
 aniery – największą ozdobą stanowi jej wewnętrzna siła charakteru.</span></
 p><p style="text-align: justify;"><span style="color: #000000; font-size: 1
 1pt;">Serdecznie zapraszamy na cykl otwartych wykładów, poświęcony najbardz
 iej charakterystycznym typom kobiecych sylwetek dla przełomu wieków XIX i X
 X. Bohaterkami wydarzenia będą kobiety przedstawiane w malarstwie, filmie i
  literaturze, a także w polskiej kulturze ludowej. Prelekcje poprowadzą spe
 cjaliści z dziedziny literatury, sztuki, filmu oraz archeologii.</span></p>
 <hr /><p style="text-align: justify;"><span style="font-size: 11pt; color: 
 #000000;">Tradycyjne zwyczaje okołowielkanocne pozostały z nami do dziś. Po
 dczas wykładu uzyskamy odpowiedź na pytanie czy i jak na przełomie wieków t
 e obrzędy ewoluowały. Święta Wielkanocne to czas wyjątkowy, gdy budzące się
  życie w zagrodzie, gospodarstwie czy domu, potrzebowało pracy gospodarzy, 
 ponieważ życie wiejskie toczyło się wokół działań agrarnych. Świętowano zat
 em przyjście wiosny i odradzającego się życia. Podczas prelekcji omówiona i
  podkreślona zostanie rola kobiety – strażniczki domowego ogniska, której r
 ola w przygotowaniach świąt jest szczególnie istotna. Dr Magdalena Przysięż
 na-Pizarska opowie o tradycyjnych zwyczajach rodzin z terenów wiejskich – p
 rzygotowywaniu domu, zamawianiu szczęścia, malowaniu jajek.</span></p><p st
 yle="text-align: justify;"><span style="font-size: 11pt; color: #000000;"><
 strong>dr Magdalena Przysiężna-Pizarska</strong> - absolwentka Uniwersytetu
  im. Adama Mickiewicza w Poznaniu, archeolog i wykładowca akademicki. Autor
 ka licznych publikacji naukowych, współpracuje z ramienia Instytutu Histori
 i Uniwersytetu Opolskiego z instytucjami i organizacjami o charakterze nauk
 owo-badawczym w kraju i poza granicami.</span></p><div class="attachmentsCo
 ntainer">

<div class="dbpAttachmentsList" id="attachmentsList_com_jevents_
 default_2751"></div>

</div>
CONTACT:RegularLabs.EmailProtector.unCloak("ep_23c76cb6");; RegularLabs.EmailProtector.unCloak("ep_236d04b5");
DTSTAMP:20260422T095457Z
DTSTART;TZID=UTC:20250408T170000
DTEND;TZID=UTC:20250408T183000
SEQUENCE:0
TRANSP:OPAQUE
END:VEVENT
END:VCALENDAR