BEGIN:VCALENDAR
VERSION:2.0
PRODID:-//jEvents 2.0 for Joomla//EN
CALSCALE:GREGORIAN
METHOD:PUBLISH
BEGIN:VEVENT
UID:fb58a9b005d3b846de097fe2e6515b9e
CATEGORIES:Dla dorosłych, Dla dzieci i młodzieży
CREATED:20241205T114444
SUMMARY:Zgrajmy Się! Rozgrywki planszówkowe dla wszystkich w bibliotece  
LOCATION:DBP, Rynek 58, piętro III, sala 35
DESCRIPTION;ENCODING=QUOTED-PRINTABLE:\n\nZgrajmy Się! Rozgrywki planszówkowe dla wszystkich w bibliotece \n29 ma
 ja 2025 | godz. 16:00-21:00 \nDBP | Rynek 58\nwstęp wolny\n\n&nbsp;\nZapras
 zamy wszystkich miłośników gier planszowych na comiesięczne spotkania plans
 zówkowe! To doskonała okazja, by spędzić czas w towarzystwie przyjaciół, ro
 dziny lub innych pasjonatów gier, grając zarówno w klasyczne tytuły, jak i 
 najnowsze hity na rynku planszówek.\nNie musisz być ekspertem – każdy, bez 
 względu na doświadczenie, znajdzie coś dla siebie. Graj w ulubione gry, odk
 rywaj nowe tytuły, poznawaj strategie i ciesz się wspólnym czasem! Spotkani
 a odbywają się raz w miesiącu, a zabawa trwa przez całe popołudnia i wieczo
 ry.\nNie ma limitu wieku – zapraszamy dzieci, młodzież, dorosłych i senioró
 w. Gry planszowe to świetny sposób na integrację i rozwijanie umiejętności 
 logicznego myślenia oraz współpracy w zespole. Każde spotkanie to nowe wyzw
 ania i mnóstwo emocji!\nPrzyjdź, weź udział, poznaj nowych ludzi i sprawdź,
  kto w tej grze okaże się mistrzem! Czekamy na Ciebie!\n&nbsp;\nSpotykamy s
 ię w każdy ostatni czwartek miesiąca od godziny 16:00 do 21:00 w sali 35 na
  wrocławskim Rynku 58!\nTo świetna okazja, aby:\n\n - Poznać nowe gry plans
 zowe i nauczyć się zasad,\n - Spędzić czas w miłym towarzystwie,\n - Odkryć
  tytuły dostępne w naszej kolekcji do wypożyczenia.Chętnie doradzamy przy w
 yborze gry oraz tłumaczymy zasady.&nbsp;Na każdym spotkaniu mamy do zaofero
 wania nowe tytuły!\nDo zobaczenia przy planszy!\n&nbsp;\nBądź zawsze na bie
 żąco: Zgrajmy się, planszówki w Bibliotece Dolnośląskiej\n




CONTACT:RegularLabs.EmailProtector.unCloak("ep_b03f82e8");
DTSTAMP:20260424T081946Z
DTSTART;TZID=UTC:20250529T160000
DTEND;TZID=UTC:20250529T210000
SEQUENCE:0
TRANSP:OPAQUE
END:VEVENT
END:VCALENDAR