BEGIN:VCALENDAR
VERSION:2.0
PRODID:-//jEvents 2.0 for Joomla//EN
CALSCALE:GREGORIAN
METHOD:PUBLISH
BEGIN:VEVENT
UID:88bdebd633d18a086a2dbd798038f7d6
CATEGORIES:Dla dorosłych, Dla dzieci i młodzieży
CREATED:20240226T125543
SUMMARY:ВIТАЮ! WITAJ! - KULTURA BIAŁORUSKA W BIBLIOTECE: Mińsk i Wrocław – interaktywna fotowystawa po zabytkach architektonicznych miast
LOCATION:Rynek 58 | III piętro | sala 35
DESCRIPTION;ENCODING=QUOTED-PRINTABLE:ВIТАЮ! WITAJ! - KULTURA BIAŁORUSKA W BIBLIOTECE\nMińsk i Wrocław – interakt
 ywna fotowystawa po zabytkach architektonicznych miast\n\n\nМінск і Уроцлаў
  – інтэрактыўная фотавыстава вакол помнікаў архітэктуры гарадоў \n\n\nMinsk
  and Wrocław – interactive exhibition of photos of architectural monuments 
 in these cities\n\n\n&nbsp;\n28 września 2024 r. | godz. 13:00\nDBP | Rynek
  58 | III piętro | Sala 35wstęp wolny&nbsp;Wydarzenie pozwoli uczestnikom z
 badać i porównać architektoniczne cechy dwóch niesamowitych miast – Mińska 
 i Wrocławia. Wydarzenie będzie podzielone na następujące części:&nbsp;1. Fi
 lm -&nbsp;w czasie jego projekcji uczestnicy będą mogli się&nbsp; zanurzyć 
 się fascynujący świat architektury, porównując obiekty architektoniczne i z
 auważając ich niesamowite podobieństwa. Podczas filmu i prezentacji miast z
 abrzmią wiersze (fragmenty) autorów polskich i białoruskich.&nbsp;2. Wideo 
 wystawa, której będzie towarzyszyć ścieżka dźwiękowa. Utwory polskie i biał
 oruskie w autorskich aranżacjach laureatki międzynarodowych konkursów piani
 stki Anastazji Buri.&nbsp;3. Puzzle i gry dla uczestników:&nbsp;\n - Puzzle
 : przygotujemy duże puzzle, dzięki którym zwiedzający będą mogli odtwarzać 
 miniaturowe modele budynków.\n - Quest: zorganizujemy interaktywną grę, w r
 amach której uczestnicy będą szukać "skarbów" zdjęć i wskazówek po całej wy
 stawie.\n - Puzzle geograficzne - stworzymy łamigłówki przedstawiające mapę
  miast, którą uczestnicy będą mogli układać, biorąc udział w konkurencjach 
 drużynowych.Fotowystawa została przygotowana przez: Irynę Micheevę - fotogr
 afkę, Natallię Khatsko - pedagożkę społeczną i animatorkę czasu,&nbsp;Anast
 azję Burię - pianistkę. W bibliotece spotkanie poprowadzi Iryna Micheeva.\n
 \n\n&nbsp;\n\n\nМерапрыемства дазволіць удзельнікам даследаваць і параўнаць
  архітэктурныя асаблівасці двух дзіўных гарадоў - Мінска і Уроцлава. Мерапр
 ыемства будзе падзелена на наступныя часткі:\n\n\n1. Фільм - падчас яго пак
 азу ўдзельнікі змогуць акунуцца ў захапляльны свет архітэктуры, параўноўваю
 чы архітэктурныя аб'екты і заўважаючы іх дзіўнае падабенства. Падчас фільма
  і прэзентацыі гарадоў прагучаць вершы (фрагменты) польскіх і беларускіх аў
 тараў.\n\n\n2. Відэавыстава ў суправаджэнні фанаграмы. Польскія і беларускі
 я творы ў арыгінальнай апрацоўцы лаўрэата міжнародных конкурсаў, піяністкі 
 Анастасіі Буры.\n\n\n3. Галаваломкі і гульні для ўдзельнікаў:\n\n - Пазлы: 
 мы падрыхтуем вялікія пазлы, дзякуючы якім наведвальнікі змогуць узнавіць м
 ініяцюрныя мадэлі будынкаў.\n - Квэст: мы арганізуем інтэрактыўную гульню, 
 у якой удзельнікі будуць шукаць «скарбы» фотаздымкаў і падказкі па ўсёй выс
 таве.\n - Геаграфічныя пазлы - мы будзем складаць пазлы з картай гарадоў, я
 кія ўдзельнікі змогуць сабраць, удзельнічаючы ў камандных спаборніцтвах.\n\
 nФотавыставу падрыхтавалі: Ірына Міхеева – фатограф, Наталля Хацько – сацыя
 льны педагог і аніматар часу, Анастасія Бура – ​​піяністка. Сустрэчу ў бібл
 іятэцы вядзе Ірына Міхеева.\n\n\n&nbsp;Удзел у Мерапрыемстве прыраўноўваецц
 а да згоды на запіс і выкарыстанне выявы ўдзельніка ў адпаведнасці з Рэглам
 ентам.\n\n\n&nbsp;\n\n\nThis event will allow participants to explore and c
 ompare the architectural characteristics of two incredible cities – Minsk a
 nd Wrocław. The event will be divided as follows:\n\n\n1. Film - While the 
 film is playing, you will be able to immerse yourselves in the fascinating 
 world of architecture and compare architectural objects as well as observe 
 the incredible similarities they have. The film and city presentations also
  include extracts of poems by Polish and Belarusian authors.\n\n\n2. Video 
 exhibition with an accompanying soundtrack, featuring Polish and Belarusian
  pieces in their original arrangements, performed by international-award-wi
 nning pianist Anastazja Buri.\n\n\n3. Jigsaw puzzles and games for particip
 ants:\n\n - Jigsaws: we will prepare large jigsaw puzzles, making it possib
 le for visitors to recreate miniature models of buildings.\n - Quest: we wi
 ll organise an interactive game, where participants go in search of "treasu
 res" in the form of photos and clues throughout the exhibition.\n - Geograp
 hic puzzles - we will create jigsaws that show a map of the cities, which p
 articipants will be able to assemble by taking part in team competitions.\n
 \nThe photo exhibition has been prepared by: Iryna Mikheeva&nbsp;– a photog
 rapher, Natallia Khatsko&nbsp;– a social pedagogue and activities coordinat
 or and Anastazja Buria&nbsp;– a pianist. The meeting in the library will be
  conducted by Iryna Mikheeva.\n\n\nBy participating in this event, you are 
 granting consent to the recording and use of images of you in accordance wi
 th the Regulations.\n




CONTACT:71 33 52 253
DTSTAMP:20260424T081931Z
DTSTART;TZID=UTC:20240928T130000
DTEND;TZID=UTC:20240928T150000
SEQUENCE:0
TRANSP:OPAQUE
END:VEVENT
END:VCALENDAR