BEGIN:VCALENDAR
VERSION:2.0
PRODID:-//jEvents 2.0 for Joomla//EN
CALSCALE:GREGORIAN
METHOD:PUBLISH
BEGIN:VEVENT
UID:a6bf4bcf3d5cbfd33274e953611b643f
CATEGORIES:Dla dorosłych, Wykład 
CREATED:20240226T124523
SUMMARY:ВIТАЮ! WITAJ! - KULTURA BIAŁORUSKA W BIBLIOTECE: Biblia Franciszka Skaryny w zasobach Górnołużyckiej Biblioteki Naukowej w Görlitz
LOCATION:Rynek 58 | III piętro | Sala 35
DESCRIPTION;ENCODING=QUOTED-PRINTABLE:<div class="default-style"><div style="text-align: justify;" data-canvas-wi
 dth="62.91200000000001"><span style="font-size: 11pt;"><strong>ВIТАЮ! WITAJ
 ! - KULTURA BIAŁORUSKA W BIBLIOTECE</strong></span></div><div>&nbsp;</div><
 div style="text-align: justify;" data-canvas-width="62.91200000000001"><spa
 n style="font-size: 11pt;"><strong>Biblia Franciszka Skaryny w zasobach Gór
 nołużyckiej Biblioteki Naukowej w Görlitz</strong></span></div><div>&nbsp;<
 /div><div><strong><span style="font-size: 11pt;"><span class="TextRun SCXW2
 33730097 BCX0" lang="RU" data-contrast="auto" xml:lang="RU"><span class="No
 rmalTextRun SCXW233730097 BCX0">Біблія Францішка Скарыны ў рэсурсах Верхнял
 ужыцкай навуковай бібліятэкі ў Гёрліцы</span></span></span></strong></div><
 div>&nbsp;</div><div><strong><span style="font-size: 11pt;"> The Francysk S
 karyna Bible held by the Upper Lusatian Library of Sciences in Görlitz</spa
 n> </strong></div><div>&nbsp;</div><div>&nbsp;</div><div style="text-align:
  justify;"><span style="font-size: 11pt;"><strong>28 września 2024 r. | god
 z. 11:00</strong></span></div></div><div style="text-align: justify;"><div 
 class="default-style"><span style="font-size: 11pt;"><strong>DBP | Rynek 58
  | III piętro | Sala 35</strong></span></div><div><span style="font-size: 1
 1pt;"><strong>wstęp wolny</strong></span></div></div><p style="text-align: 
 justify;">&nbsp;</p><p style="text-align: justify;"><span style="font-size:
  11pt;">20 lat temu w kolekcji Górnołużyckiej Biblioteki Naukowej w Görlitz
  dokonano sensacyjnego odkrycia egzemplarza tzw. Biblii Ruskiej w przekładz
 ie Franciszka Skaryny. Ten zabytek piśmiennictwa starobiałoruskiego to najs
 tarszy i jedyny egzemplarz Biblii wydrukowanej w języku wschodniosłowiański
 m na terytorium Niemiec. Egzemplarz z Görlitz składa się z dwóch tomów. Pie
 rwszy zawiera Pięcioksiąg, czyli Pięć Ksiąg Mojżesza, i został wydrukowany 
 w Pradze w 1519 r. Drugi tom zawiera Księgę Jozuego, Księgi Królewskie, Ksi
 ęgę Mądrości i Modlitwę Manassesa, wydane drukiem w Pradze już w 1518 r. Ni
 e udało się ustalić, kto był pierwszym właścicielem tego druku. Pewne jest 
 natomiast nazwisko osobistości, która otrzymała Biblię Skaryny w darze. To 
 Jan Hess, znany wrocławski reformator religijny. Więcej szczegółów na temat
  innych właścicieli tego egzemplarza Biblii zostanie omówionych podczas wyk
 ładu.</span></p><p style="text-align: justify;"><span style="font-size: 11p
 t;">Wykład poprowadzi <strong>Katarzyna Zinnow</strong> - dr historii sztuk
 i. Aktualnie prowadzi badania proweniencyjne w zasobach Górnołużyckiej Bibl
 ioteki Naukowej w kontekście dóbr kultury zagrabionych w okresie III Rzeszy
 .</span></p><p>&nbsp;</p><p><span style="font-size: 11pt;">20 гадоў таму ад
 былася сенсацыйная знаходка копіі т.зв Рускай Бібліі ў перакладзе Францішка
  Скарыны. Гэты помнік старабеларускага пісьменства з'яўляецца самым старажы
 тным і адзіным у Германіі асобнікам Бібліі, надрукаваным на ўсходнеславянск
 ай мове. Копія з Гёрліца складаецца з двух тамоў. Першы том змяшчае Пяцікні
 жжа, гэта значыць Пяцікніжжа Майсея, і быў надрукаваны ў Празе ў 1519 г. Др
 угі том змяшчае Кнігу Ісуса Навіна, Кнігі Царстваў, Кнігу Мудрасці і Малітв
 у Манасіі, надрукаваныя ў Празе ўжо ў 1518 г. Вызначыць, хто быў першым ула
 дальнікам гэтай гравюры, не ўдалося. Аднак імя таго, хто атрымаў у падаруна
 к Біблію Скарыны, дакладнае. Гэта Ян Гес, вядомы рэлігійны рэфарматар з Уро
 цлава. Больш падрабязна пра іншых уладальнікаў гэтай Бібліі мы раскажам пад
 час лекцыі.</span></p><p><span style="font-size: 11pt;">Лекцыю правядзе кан
 дыдат мастацтвазнаўства <strong>Катажына Зінноў</strong>. У цяперашні час п
 раводзіць даследаванне паходжання ў рэсурсах Верхнелужыцкай навуковай біблі
 ятэкі ў кантэксце культурных каштоўнасцяў, выкрадзеных падчас Трэцяга Рэйха
 .</span></p><p><span style="font-size: 11pt;">Удзел у Мерапрыемстве прыраўн
 оўваецца да згоды на запіс і выкарыстанне выявы ўдзельніка ў адпаведнасці з
  Рэгламентам.</span></p><p>&nbsp;</p><p><span style="font-size: 11pt;">20 y
 ears ago, a sensational discovery was made in the collection of the Upper L
 usatian Scientific Library in Görlitz of a copy of what is known as the "Ru
 ssian Bible", translated by Franciszek Skaryna. This monument of old Belaru
 sian literature is the oldest, and only surviving, copy of the Bible to be 
 printed in an East Slavic language in Germany. The copy from Görlitz consis
 ts of two volumes. The first contains the Pentateuch, or the Five Books of 
 Moses, and was printed in Prague in 1519. The second volume contains the Bo
 ok of Joshua, the Books of Kings, the Book of Wisdom and the Prayer of Mana
 sseh, printed in Prague as early as 1518. Determining who the first owner o
 f this print was has proved impossible. However, the name of the person who
  received Skaryna's Bible as a gift is known for certain. It was Jan Hess, 
 a famous religious reformer from Wrocław. Further details about the other o
 wners of this copy of the Bible will be discussed during the lecture. <br /
 ></span><br /><span style="font-size: 11pt;">The lecture will be given by <
 strong>Katarzyna Zinnow</strong> - a Doctor of History of Art. She is curre
 ntly conducting provenance research in the archives of the Upper Lusatian S
 cientific Library in the context of cultural goods that were stolen during 
 the era of the Third Reich.</span></p><p><span style="font-size: 11pt;">By 
 participating in this event, you are granting consent to the recording and 
 use of images of you in accordance with the Regulations.</span></p><div cla
 ss="attachmentsContainer">

<div class="dbpAttachmentsList" id="attachments
 List_com_jevents_default_2500"></div>

</div>
CONTACT:71 33 52 253
DTSTAMP:20260422T110042Z
DTSTART;TZID=UTC:20240928T110000
DTEND;TZID=UTC:20240928T120000
SEQUENCE:0
TRANSP:OPAQUE
END:VEVENT
END:VCALENDAR