BEGIN:VCALENDAR
VERSION:2.0
PRODID:-//jEvents 2.0 for Joomla//EN
CALSCALE:GREGORIAN
METHOD:PUBLISH
BEGIN:VEVENT
UID:3f9e30efda8f5388a7299b28992454f9
CATEGORIES:Dla dorosłych, Dla dzieci i młodzieży
CREATED:20240226T112837
SUMMARY:ВIТАЮ! WITAJ! - KULTURA BIAŁORUSKA W BIBLIOTECE: Zgrajmy Się! Rozgrywki planszówkowe dla wszystkich w bibliotece
LOCATION:Rynek 58 | parter | Galeria pod Plafonem
DESCRIPTION;ENCODING=QUOTED-PRINTABLE:<div class="default-style"><div style="text-align: justify;" data-canvas-wi
 dth="62.91200000000001"><span style="font-size: 11pt;"><strong>ВIТАЮ! WITAJ
 ! - KULTURA BIAŁORUSKA W BIBLIOTECE</strong></span></div><div style="text-a
 lign: justify;">&nbsp;</div></div><div class="default-style" style="text-al
 ign: justify;"><span style="font-size: 11pt;"><strong>Zgrajmy Się! Rozgrywk
 i planszówkowe dla wszystkich w bibliotece</strong></span></div><div>&nbsp;
 </div><div><strong><span style="font-size: 11pt;">Збяромся! Настольныя гуль
 ні для ўсіх у бібліятэцы</span> </strong></div><div>&nbsp;</div><div><stron
 g><span style="font-size: 11pt;">Let's get together! Board games for all in
  the library</span></strong></div><div>&nbsp;</div><div>&nbsp;</div><div st
 yle="text-align: justify;"><span style="font-size: 11pt;"><strong>26 wrześn
 ia 2024 r. | godz. 17:00</strong></span></div><div class="default-style" st
 yle="text-align: justify;"><span style="font-size: 11pt;"><strong>DBP | Ryn
 ek 58 | parter | Galeria pod Plafonem</strong></span></div><div class="defa
 ult-style" style="text-align: justify;"><span style="font-size: 11pt;"><str
 ong>wstęp wolny</strong></span></div><div style="text-align: justify;">&nbs
 p;</div><div style="text-align: justify;">&nbsp;</div><p style="text-align:
  justify;"><span style="font-size: 11pt;">Zapraszamy wszystkich miłośników 
 planszówek do wspólnego ogrywania najciekawszych tytułów dostępnych na rynk
 u. Na spotkaniach mile widziani są zarówno dorośli gracze, młodzież oraz&nb
 sp;dzieci z opiekunami. Tym razem rozgrywki rozszerzymy o gry w języku biał
 oruskim i angielskim.&nbsp;</span></p><p style="text-align: justify;"><span
  style="font-size: 11pt;">Do Waszej dyspozycji będą gry z ciągle rozbudowuj
 ącej się kolekcji biblioteki, po spotkaniu będziecie mieć możliwość wypożyc
 zenia interesującej Was gry do domu na dwa tygodnie.</span></p><p style="te
 xt-align: justify;"><span style="font-size: 11pt;">Jeśli grasz często w gry
  planszowe i szukasz miejsca, w którym bezpłatnie może wypróbować nowe tytu
 łu, a po spotkaniu kontynuować rozgrywkę w domu to serdecznie zapraszamy!&n
 bsp;</span></p><p style="text-align: justify;"><span style="font-size: 11pt
 ;">Jeśli lubisz gry planszowe, a nie masz z kim grać to spotkanie właśnie d
 la Ciebie!</span></p><p>&nbsp;</p><p><span style="font-size: 11pt;">Мы запр
 ашаем усіх аматараў настолак пагуляць разам у самыя цікавыя гульні, даступн
 ыя на рынку. На сустрач запрашаюцца як дарослыя гульцы, так і падлеткі, а т
 аксама дзеці з апекунамі. Гэтым разам мы пашырым гульні на беларускай і анг
 лійскай мовах.</span></p><p><span style="font-size: 11pt;">У вашым распарад
 жэнні будуць гульні з калекцыі бібліятэкі, якая пастаянна папаўняецца, а па
 сля сустрэчы вы атрымаеце магчымасць пазычыць гульню, якая вас зацікавіла, 
 і забраць дадому на два тыдні.</span></p><p><span style="font-size: 11pt;">
 Калі ты часта гуляеш ў настолкі і шукаеш месца, дзе можаш паспрабаваць новы
 я гульні бясплатна і працягнуць гуляць дома пасля сустрэчы, мы сардэчна зап
 рашаем цябе!</span></p><p><span style="font-size: 11pt;">Калі ты любіш наст
 ольныя гульні, але няма з кім гуляць, гэтая сустрэча як раз для цябе!</span
 ></p><p><span style="font-size: 11pt;">Удзел у Мерапрыемстве прыраўноўваецц
 а да згоды на запіс і выкарыстанне выявы ўдзельніка ў адпаведнасці з Рэглам
 ентам.</span></p><p>&nbsp;</p><p><span style="font-size: 11pt;">Welcome all
  you board-game fans. Here's a chance to get together and play the most int
 eresting titles available on the market. Adult players, young people and ac
 companied children are welcome at these meetings. This time round, the coll
 ection of games has been widened so that they include some that are in the 
 Belarusian and English languages.</span></p><p><span style="font-size: 11pt
 ;">Games from our ever-expanding library will be available for you to play.
  Afterwards, you will be allowed to borrow any game you find interesting an
 d take it home for two weeks.</span></p><p><span style="font-size: 11pt;">I
 f you are a keen player of board games and in search of a place to try out 
 new titles for free, and even carry on playing at home afterwards, you are 
 warmly invited!</span></p><p><span style="font-size: 11pt;">If you like boa
 rd games, but you don't have anyone to play with, this meeting is just for 
 you!</span></p><p><span style="font-size: 11pt;">By participating in this e
 vent, you are granting consent to the recording and use of images of you in
  accordance with the Regulations.</span></p><p>&nbsp;</p><div class="attach
 mentsContainer">

<div class="dbpAttachmentsList" id="attachmentsList_com_j
 events_default_2493"></div>

</div>
CONTACT:71 3352 253
DTSTAMP:20260422T110103Z
DTSTART;TZID=UTC:20240926T170000
SEQUENCE:0
TRANSP:OPAQUE
END:VEVENT
END:VCALENDAR