BEGIN:VCALENDAR
VERSION:2.0
PRODID:-//jEvents 2.0 for Joomla//EN
CALSCALE:GREGORIAN
METHOD:PUBLISH
BEGIN:VEVENT
UID:d4c6f8603f6c49614a84271424caeb9d
CATEGORIES:Dla dorosłych
CREATED:20260107T104412
SUMMARY:15. Targi Książki Regionalnej SILESIANA
LOCATION:DBP | Rynek 58 | sala 35 | III piętro | Namiot ze stoiskami targowymi, pl. 
 Solny
DESCRIPTION;ENCODING=QUOTED-PRINTABLE:<p><span style="font-size: 12pt; color: #000000;"><strong>Silesiana - Dolno
 śląski Salon Wydawniczy</strong></span></p><p><span style="font-size: 12pt;
  color: #000000;"><strong>7-10 maja 2026 | godz. 10:00-19:00</strong></span
 ></p><p><span style="font-size: 12pt; color: #000000;"><strong>DBP | Rynek 
 58 |&nbsp;pl. Solny</strong></span></p><p><span style="font-size: 12pt; col
 or: #000000;"><strong>wstęp wolny</strong></span></p><p>&nbsp;</p><p style=
 "text-align: justify;" data-start="142" data-end="494"><span style="color: 
 #000000;"><strong>Silesiana - Dolnośląski Salon Wydawniczy</strong><strong 
 data-start="142" data-end="186"> -</strong>&nbsp;cykliczna impreza w formie
  targów książki, organizowana przez Dolnośląską Bibliotekę Publiczną od 201
 0 roku. Wydarzenie jest dofinansowane ze środków Ministra Kultury i Dziedzi
 ctwa Narodowego oraz z Budżetu Województwa Dolnośląskiego. Targi połączone 
 są ze spotkaniami autorskimi, konkursami i wystawami.</span></p><p style="t
 ext-align: justify;" data-start="496" data-end="804"><span style="color: #0
 00000;">Celem imprezy jest zaprezentowanie szerokiemu gronu odbiorców dorob
 ku wydawniczego Dolnego Śląska, ze szczególnym uwzględnieniem publikacji wy
 dawanych przez małe, mniej znane wydawnictwa regionalne. Wydarzenie służy p
 romocji lokalnej twórczości literackiej oraz działalności wydawniczej związ
 anej z regionem.</span></p><p style="text-align: justify;" data-start="806"
  data-end="1138"><span style="color: #000000;">Książka regionalna prezentow
 ana na targach „Silesiana - Dolnośląski Salon Wydawniczy” rozumiana jest dw
 ojako: jako publikacja dotycząca Dolnego Śląska oraz jako każda książka - n
 iezależnie od tematyki, która powstała w regionie, tj. została wydana przez
  miejscowe wydawnictwo lub napisana przez autora związanego z Dolnym Śląski
 em.</span></p><p style="text-align: justify;" data-start="1140" data-end="1
 393"><span style="color: #000000;">Publiczność odwiedzająca targi ma możliw
 ość zapoznania się z książkami, czasopismami oraz innymi materiałami dotycz
 ącymi historii, kultury, gospodarki i atrakcji turystycznych Dolnego Śląska
 , a także poznania twórczości lokalnych pisarzy i dziennikarzy.</span></p><
 p style="text-align: justify;" data-start="1395" data-end="1617"><span styl
 e="color: #000000;">Targi oraz wydarzenia im towarzyszące wspierają aktywno
 ść intelektualną, kulturalną, hobbystyczną i turystyczną lokalnej społeczno
 ści, a także promują i wzmacniają środowisko regionalnych wydawców oraz twó
 rców literackich.</span></p><p style="text-align: justify;" data-start="161
 9" data-end="1837"><span style="color: #000000;">Od 2012 roku w ramach targ
 ów przyznawana jest <strong data-start="1665" data-end="1697">Nagroda Wydaw
 nicza Silesiana</strong> dla publikacji, która poprzez treść, osobę autora 
 i/lub formę edytorską w najlepszy sposób promuje Dolny Śląsk i stanowi wizy
 tówkę regionu.</span></p><div class="attachmentsContainer">

<div class="db
 pAttachmentsList" id="attachmentsList_com_jevents_default_3037"></div>

</d
 iv>
CONTACT:RegularLabs.EmailProtector.unCloak("ep_48c90ebe");
DTSTAMP:20260419T162901Z
DTSTART;TZID=UTC:20260509T080000
DTEND;TZID=UTC:20260512T190000
SEQUENCE:0
TRANSP:OPAQUE
END:VEVENT
END:VCALENDAR