BEGIN:VCALENDAR
VERSION:2.0
PRODID:-//jEvents 2.0 for Joomla//EN
CALSCALE:GREGORIAN
METHOD:PUBLISH
BEGIN:VEVENT
UID:920a30491f8cc42abcd480734ce8b79f
CATEGORIES:Lekcja biblioteczna, Biblioteka Romańska dla dzieci, Wydarzenie zamknięte
CREATED:20241001T122953
SUMMARY:Szkolne środy
LOCATION:Rynek 58 | sala 31
DESCRIPTION;ENCODING=QUOTED-PRINTABLE:<p><strong>cykl: Szkolne środy<br /><br />środy | godz. 9:00 | sala 31 (Bib
 lioteka Romańska)&nbsp;<br /><br />obowiązują zapisy</strong></p><p>Od paźd
 ziernika 2024 r. wracamy do spotkań w ramach cyklu <strong>Szkolne środy.</
 strong> Zapraszamy do Biblioteki Romańskiej <strong>grupy szkolne</strong> 
 na zajęcia, które będą miały różne formy: gry, prelekcje, pokazy, warsztaty
 . Celem spotkań będzie zaprezentowanie i promowanie kultury krajów z romańs
 kiego oraz słowiańskiego kręgu kulturowego. Zajęcia mogą być prowadzone w j
 ęzykach: polskim, francuskim, hiszpańskim i rosyjskim.</p><p>Terminy spotka
 ń będziemy ustalać indywidualnie z zainteresowanymi. Sugerowane godziny to 
 9:00-10:30. <br /><br />Zapraszamy do kontaktu: Biblioteka Romańska, Rynek 
 58; tel. 71/ 335 22 22; mail: <!-- This email address is being protected fr
 om spambots. --><a href="javascript:/* This email address is being protecte
 d from spambots.*/"><span class="cloaked_email ep_68c31ad4" style="display:
 none;"><span data-ep-a="ro&#109;&#97;" data-ep-b=""><span data-ep-a="n&#115
 ;k&#97;" data-ep-b="&#99;.p&#108;"><span data-ep-a="&#64;&#119;&#98;p" data
 -ep-b="&#46;&#119;r&#111;"></span></span></span></span><span class="cloaked
 _email ep_2515763d"><span data-ep-b="]&#32;&#60;&#47;&#115;m&#97;&#108;&#10
 8;&#62;&#112;&#108;" data-ep-a="ro&#109;a&#110;&#115;&#107;&#97;&#60;&#115;
 ma&#108;&#108;"><span data-ep-b="&#111;&#99;&#60;s&#109;&#97;&#108;&#108;&#
 62;&#32;[D&#79;T" data-ep-a="&#62; [AT]&#32;</&#115;m&#97;&#108;&#108;"><sp
 an data-ep-a="&#62;w&#98;&#112;&#60;sm&#97;&#108;&#108;>&#32;[&#68;" data-e
 p-b="O&#84;&#93;&#32;<&#47;&#115;ma&#108;&#108;&#62;&#119;&#114;"></span></
 span></span></span></a><script>RegularLabs.EmailProtector.unCloak("ep_25157
 63d", true);</script><!-- This email address is being protected from spambo
 ts. --><a href="javascript:/* This email address is being protected from sp
 ambots.*/"><span class="cloaked_email ep_63027358"><span data-ep-b="" data-
 ep-a="&#114;o&#109;a"><span data-ep-b="&#99;&#46;&#112;&#108;" data-ep-a="n
 &#115;ka"><span data-ep-b="&#46;wro" data-ep-a="&#64;&#119;&#98;p"></span><
 /span></span></span><script>RegularLabs.EmailProtector.unCloak("ep_63027358
 ");</script><span class="cloaked_email ep_2533c2ec" style="display:none;"><
 span data-ep-b="" data-ep-a="&#114;o&#109;a"><span data-ep-b="&#99;&#46;&#1
 12;&#108;" data-ep-a="nska"><span data-ep-b="&#46;&#119;&#114;&#111;" data-
 ep-a="&#64;&#119;&#98;&#112;"></span></span></span></span></a><script>Regul
 arLabs.EmailProtector.unCloak("ep_2533c2ec", true);</script></p><p><strong>
 <br />Nasze propozycje na najbliższe spotkania:<br /><br /></strong></p><p>
 <span style="font-family: times new roman, serif;"><b><span style="font-siz
 e: 11pt;">Zajęcia kulturowo-językowe</span><br /></b><br /><span style="fon
 t-size: 11pt;">Zapraszamy uczniów szkół średnich i klas 7-8 na zajęcia z Ro
 salie, stażystką Alliance Française.&nbsp; </span><br /><br /><span style="
 font-size: 11pt;">Podczas spotkania uczniowie:</span><br /><span style="fon
 t-size: 11pt;">– poznają francuskie wyrażenia idiomatyczne w sposób zabawny
  i interaktywny,</span><br /><span style="font-size: 11pt;">– nauczą się ro
 zpoznawać polskie słowa pochodzenia francuskiego,</span><br /><span style="
 font-size: 11pt;">– wezmą udział w grach i quizach dotyczących kultury fran
 cuskiej,</span><br /><span style="font-size: 11pt;"><span style="font-famil
 y: times new roman, serif;">–</span> będą mieli okazję dowiedzieć się więce
 j o mieście, z którego pochodzi Rosalie i zadać jej kilka pytań.</span></sp
 an></p><p><span style="font-family: times new roman, serif; font-size: 11pt
 ;">Zajęcia są dostosowane do poziomu grupy i mają na celu poszerzenie słown
 ictwa, pobudzenie ciekawości oraz promocję kultury frankofońskiej.</span></
 p><p>&nbsp;</p><p><br /> <strong>Świat Małego Księcia<br /> zajęcia w język
 u francuskim, polskim lub rosyjskim <br /> <br /> </strong>Zapraszamy uczni
 ów starszych klas szkół podstawowych i liceów na spotkanie poświęcone "Małe
 mu Księciu". W czasie zajęć uczestnicy będą mogli lepiej poznać zarówno świ
 at stworzony przez Antoine'a de Saint Exupery'ego, jak i postać samego auto
 ra. Młodszym uczniom proponujemy ponadto złożenie własnego modelu samolotu,
  zaś starszym udział w grze z użyciem QR kodów.&nbsp;<br /> <strong><br /> 
 <br /> Nie taki potwór straszny… <br /> zajęcia w języku rosyjskim lub pols
 kim <br /> <br /> </strong>Zapraszamy uczniów klas 1-5 szkół podstawowych n
 a spotkanie ze Sznorkelami: postaciami stworzonymi przez pisarkę i ilustrat
 orkę Swietłanę Resheninę. Podczas zajęć uczestnicy będą mogli zapoznać się 
 z twórczością autorki, w szczególności z książką "Mamo, to są Sznorkele!". 
 Spotkanie zakończy się wspólną grą zaczerpniętą z omawianej opowieści.</p><
 p><strong>&nbsp;</strong></p><p><strong>Cmentarz Zapomnianych Książek <br /
 > zajęcia w języku hiszpańskim lub polskim <br /> <br /> </strong>Zapraszam
 y uczniów klas 7-8 i liceów na zajęcia poświęcone „Cieniowi wiatru” Carlosa
  Ruiza Zafona. W czasie zajęć odwiedzimy wspólnie Cmentarz Zapomnianych Ksi
 ążek i zanurzymy się w klimat powojennej, frankistowskiej Barcelony. Razem 
 z bohaterami powieści będziemy też mogli poszukać rozwiązania zagadki dotyc
 zącej tajemniczego kolekcjonera książek. <strong><br /> <br /> <br /> Kosmi
 ta w Barcelonie <br /> zajęcia w języku hiszpańskim lub polskim</strong></p
 ><p>Zapraszamy uczniów klas 7-8 i liceów na zajęcia zainspirowane książką „
 Brak wiadomości od Gurba” Eduarda Mendozy. Jak to jest być kosmitą, który p
 róbuje odnaleźć się we współczesnej Barcelonie? Niezależnie od tego, z jaki
 mi trudnościami się to wiąże, spróbujemy wspólnie im zaradzić!</p><p><br />
 <br /> <br /> Szczegóły dotyczące kolejnych spotkań opublikujemy wkrótce. Z
 achęcamy do śledzenia mediów społecznościowych oraz strony Dolnośląskiej Bi
 blioteki Publicznej</p><div class="attachmentsContainer">

<div class="dbpA
 ttachmentsList" id="attachmentsList_com_jevents_default_2657"></div>

</div
 >
CONTACT:RegularLabs.EmailProtector.unCloak("ep_9912bdb3");
DTSTAMP:20260419T174028Z
DTSTART;TZID=UTC:20250528T090000
DTEND;TZID=UTC:20250528T103000
SEQUENCE:0
TRANSP:OPAQUE
END:VEVENT
END:VCALENDAR