BEGIN:VCALENDAR
VERSION:2.0
PRODID:-//jEvents 2.0 for Joomla//EN
CALSCALE:GREGORIAN
METHOD:PUBLISH
BEGIN:VEVENT
UID:920a30491f8cc42abcd480734ce8b79f
CATEGORIES:Lekcja biblioteczna, Biblioteka Romańska dla dzieci, Wydarzenie zamknięte
CREATED:20241001T122953
SUMMARY:Szkolne środy
LOCATION:Rynek 58 | sala 31
DESCRIPTION;ENCODING=QUOTED-PRINTABLE:<p><strong>cykl: Szkolne środy<br /><br />środy | godz. 9:00 | sala 31 (Bib
 lioteka Romańska)&nbsp;<br /><br />obowiązują zapisy</strong></p><p>Od paźd
 ziernika 2024 r. wracamy do spotkań w ramach cyklu <strong>Szkolne środy.</
 strong> Zapraszamy do Biblioteki Romańskiej <strong>grupy szkolne</strong> 
 na zajęcia, które będą miały różne formy: gry, prelekcje, pokazy, warsztaty
 . Celem spotkań będzie zaprezentowanie i promowanie kultury krajów z romańs
 kiego oraz słowiańskiego kręgu kulturowego. Zajęcia mogą być prowadzone w j
 ęzykach: polskim, francuskim, hiszpańskim i rosyjskim.</p><p>Terminy spotka
 ń będziemy ustalać indywidualnie z zainteresowanymi. Sugerowane godziny to 
 9:00-10:30. <br /><br />Zapraszamy do kontaktu: Biblioteka Romańska, Rynek 
 58; tel. 71/ 335 22 22; mail: <!-- This email address is being protected fr
 om spambots. --><a href="javascript:/* This email address is being protecte
 d from spambots.*/"><span class="cloaked_email ep_fe1cc534" style="display:
 none;"><span data-ep-b="" data-ep-a="ro&#109;&#97;"><span data-ep-a="&#110;
 &#115;&#107;&#97;" data-ep-b="&#99;&#46;&#112;&#108;"><span data-ep-b="&#46
 ;&#119;&#114;o" data-ep-a="&#64;w&#98;&#112;"></span></span></span></span><
 span class="cloaked_email ep_6fa15868"><span data-ep-b="] &#60;/s&#109;al&#
 108;&#62;&#112;l" data-ep-a="ro&#109;an&#115;ka<&#115;&#109;a&#108;&#108;">
 <span data-ep-a=">&#32;[AT&#93;&#32;&#60;/s&#109;a&#108;l" data-ep-b="&#111
 ;c<&#115;&#109;&#97;&#108;&#108;> [&#68;&#79;&#84;"><span data-ep-a=">&#119
 ;&#98;p&#60;s&#109;&#97;&#108;&#108;&#62;&#32;[&#68;" data-ep-b="&#79;T&#93
 ;&#32;<&#47;s&#109;&#97;l&#108;&#62;w&#114;"></span></span></span></span></
 a><script>RegularLabs.EmailProtector.unCloak("ep_6fa15868", true);</script>
 <!-- This email address is being protected from spambots. --><a href="javas
 cript:/* This email address is being protected from spambots.*/"><span clas
 s="cloaked_email ep_0132701d"><span data-ep-a="&#114;&#111;&#109;&#97;" dat
 a-ep-b=""><span data-ep-a="&#110;&#115;k&#97;" data-ep-b="&#99;.&#112;l"><s
 pan data-ep-b="&#46;&#119;&#114;o" data-ep-a="&#64;w&#98;&#112;"></span></s
 pan></span></span><script>RegularLabs.EmailProtector.unCloak("ep_0132701d")
 ;</script><span class="cloaked_email ep_409dc1f1" style="display:none;"><sp
 an data-ep-b="" data-ep-a="r&#111;m&#97;"><span data-ep-a="&#110;&#115;k&#9
 7;" data-ep-b="&#99;&#46;&#112;l"><span data-ep-a="&#64;&#119;b&#112;" data
 -ep-b=".&#119;ro"></span></span></span></span></a><script>RegularLabs.Email
 Protector.unCloak("ep_409dc1f1", true);</script></p><p><strong><br />Nasze 
 propozycje na najbliższe spotkania:<br /><br /></strong></p><p><span style=
 "font-family: times new roman, serif;"><b><span style="font-size: 11pt;">Za
 jęcia kulturowo-językowe</span><br /></b><br /><span style="font-size: 11pt
 ;">Zapraszamy uczniów szkół średnich i klas 7-8 na zajęcia z Rosalie, staży
 stką Alliance Française.&nbsp; </span><br /><br /><span style="font-size: 1
 1pt;">Podczas spotkania uczniowie:</span><br /><span style="font-size: 11pt
 ;">– poznają francuskie wyrażenia idiomatyczne w sposób zabawny i interakty
 wny,</span><br /><span style="font-size: 11pt;">– nauczą się rozpoznawać po
 lskie słowa pochodzenia francuskiego,</span><br /><span style="font-size: 1
 1pt;">– wezmą udział w grach i quizach dotyczących kultury francuskiej,</sp
 an><br /><span style="font-size: 11pt;"><span style="font-family: times new
  roman, serif;">–</span> będą mieli okazję dowiedzieć się więcej o mieście,
  z którego pochodzi Rosalie i zadać jej kilka pytań.</span></span></p><p><s
 pan style="font-family: times new roman, serif; font-size: 11pt;">Zajęcia s
 ą dostosowane do poziomu grupy i mają na celu poszerzenie słownictwa, pobud
 zenie ciekawości oraz promocję kultury frankofońskiej.</span></p><p>&nbsp;<
 /p><p><br /> <strong>Świat Małego Księcia<br /> zajęcia w języku francuskim
 , polskim lub rosyjskim <br /> <br /> </strong>Zapraszamy uczniów starszych
  klas szkół podstawowych i liceów na spotkanie poświęcone "Małemu Księciu".
  W czasie zajęć uczestnicy będą mogli lepiej poznać zarówno świat stworzony
  przez Antoine'a de Saint Exupery'ego, jak i postać samego autora. Młodszym
  uczniom proponujemy ponadto złożenie własnego modelu samolotu, zaś starszy
 m udział w grze z użyciem QR kodów.&nbsp;<br /> <strong><br /> <br /> Nie t
 aki potwór straszny… <br /> zajęcia w języku rosyjskim lub polskim <br /> <
 br /> </strong>Zapraszamy uczniów klas 1-5 szkół podstawowych na spotkanie 
 ze Sznorkelami: postaciami stworzonymi przez pisarkę i ilustratorkę Swietła
 nę Resheninę. Podczas zajęć uczestnicy będą mogli zapoznać się z twórczości
 ą autorki, w szczególności z książką "Mamo, to są Sznorkele!". Spotkanie za
 kończy się wspólną grą zaczerpniętą z omawianej opowieści.</p><p><strong>&n
 bsp;</strong></p><p><strong>Cmentarz Zapomnianych Książek <br /> zajęcia w 
 języku hiszpańskim lub polskim <br /> <br /> </strong>Zapraszamy uczniów kl
 as 7-8 i liceów na zajęcia poświęcone „Cieniowi wiatru” Carlosa Ruiza Zafon
 a. W czasie zajęć odwiedzimy wspólnie Cmentarz Zapomnianych Książek i zanur
 zymy się w klimat powojennej, frankistowskiej Barcelony. Razem z bohaterami
  powieści będziemy też mogli poszukać rozwiązania zagadki dotyczącej tajemn
 iczego kolekcjonera książek. <strong><br /> <br /> <br /> Kosmita w Barcelo
 nie <br /> zajęcia w języku hiszpańskim lub polskim</strong></p><p>Zaprasza
 my uczniów klas 7-8 i liceów na zajęcia zainspirowane książką „Brak wiadomo
 ści od Gurba” Eduarda Mendozy. Jak to jest być kosmitą, który próbuje odnal
 eźć się we współczesnej Barcelonie? Niezależnie od tego, z jakimi trudności
 ami się to wiąże, spróbujemy wspólnie im zaradzić!</p><p><br /><br /> <br /
 > Szczegóły dotyczące kolejnych spotkań opublikujemy wkrótce. Zachęcamy do 
 śledzenia mediów społecznościowych oraz strony Dolnośląskiej Biblioteki Pub
 licznej</p><div class="attachmentsContainer">

<div class="dbpAttachmentsLi
 st" id="attachmentsList_com_jevents_default_2657"></div>

</div>
CONTACT:RegularLabs.EmailProtector.unCloak("ep_c015e33a");
DTSTAMP:20260419T174011Z
DTSTART;TZID=UTC:20250521T090000
DTEND;TZID=UTC:20250521T103000
SEQUENCE:0
TRANSP:OPAQUE
END:VEVENT
END:VCALENDAR