BEGIN:VCALENDAR
VERSION:2.0
PRODID:-//jEvents 2.0 for Joomla//EN
CALSCALE:GREGORIAN
METHOD:PUBLISH
BEGIN:VEVENT
UID:920a30491f8cc42abcd480734ce8b79f
CATEGORIES:Lekcja biblioteczna, Biblioteka Romańska dla dzieci, Wydarzenie zamknięte
CREATED:20241001T122953
SUMMARY:Szkolne środy
LOCATION:Rynek 58 | sala 31
DESCRIPTION;ENCODING=QUOTED-PRINTABLE:<p><strong>cykl: Szkolne środy<br /><br />środy | godz. 9:00 | sala 31 (Bib
 lioteka Romańska)&nbsp;<br /><br />obowiązują zapisy</strong></p><p>Od paźd
 ziernika 2024 r. wracamy do spotkań w ramach cyklu <strong>Szkolne środy.</
 strong> Zapraszamy do Biblioteki Romańskiej <strong>grupy szkolne</strong> 
 na zajęcia, które będą miały różne formy: gry, prelekcje, pokazy, warsztaty
 . Celem spotkań będzie zaprezentowanie i promowanie kultury krajów z romańs
 kiego oraz słowiańskiego kręgu kulturowego. Zajęcia mogą być prowadzone w j
 ęzykach: polskim, francuskim, hiszpańskim i rosyjskim.</p><p>Terminy spotka
 ń będziemy ustalać indywidualnie z zainteresowanymi. Sugerowane godziny to 
 9:00-10:30. <br /><br />Zapraszamy do kontaktu: Biblioteka Romańska, Rynek 
 58; tel. 71/ 335 22 22; mail: <!-- This email address is being protected fr
 om spambots. --><a href="javascript:/* This email address is being protecte
 d from spambots.*/"><span class="cloaked_email ep_a33a2407" style="display:
 none;"><span data-ep-b="" data-ep-a="r&#111;&#109;&#97;"><span data-ep-b="c
 &#46;&#112;&#108;" data-ep-a="&#110;&#115;k&#97;"><span data-ep-b=".&#119;r
 o" data-ep-a="&#64;&#119;&#98;&#112;"></span></span></span></span><span cla
 ss="cloaked_email ep_773e0ad3"><span data-ep-a="r&#111;m&#97;&#110;&#115;&#
 107;a&#60;&#115;m&#97;&#108;l" data-ep-b="&#93;&#32;&#60;/smal&#108;>&#112;
 &#108;"><span data-ep-b="o&#99;&#60;sm&#97;l&#108;&#62;&#32;&#91;&#68;&#79;
 T" data-ep-a=">&#32;[A&#84;&#93;&#32;&#60;&#47;&#115;&#109;&#97;l&#108;"><s
 pan data-ep-b="&#79;&#84;]&#32;&#60;/sm&#97;&#108;&#108;&#62;&#119;r" data-
 ep-a=">wb&#112;&#60;&#115;&#109;&#97;&#108;&#108;> &#91;&#68;"></span></spa
 n></span></span></a><script>RegularLabs.EmailProtector.unCloak("ep_773e0ad3
 ", true);</script><!-- This email address is being protected from spambots.
  --><a href="javascript:/* This email address is being protected from spamb
 ots.*/"><span class="cloaked_email ep_99299d7f"><span data-ep-b="" data-ep-
 a="&#114;&#111;ma"><span data-ep-b="c&#46;&#112;&#108;" data-ep-a="nska"><s
 pan data-ep-b="&#46;w&#114;&#111;" data-ep-a="&#64;&#119;b&#112;"></span></
 span></span></span><script>RegularLabs.EmailProtector.unCloak("ep_99299d7f"
 );</script><span class="cloaked_email ep_99361232" style="display:none;"><s
 pan data-ep-b="" data-ep-a="&#114;oma"><span data-ep-b="&#99;.&#112;&#108;"
  data-ep-a="&#110;s&#107;&#97;"><span data-ep-a="&#64;w&#98;&#112;" data-ep
 -b="&#46;w&#114;&#111;"></span></span></span></span></a><script>RegularLabs
 .EmailProtector.unCloak("ep_99361232", true);</script></p><p><strong><br />
 Nasze propozycje na najbliższe spotkania:<br /><br /></strong></p><p><span 
 style="font-family: times new roman, serif;"><b><span style="font-size: 11p
 t;">Zajęcia kulturowo-językowe</span><br /></b><br /><span style="font-size
 : 11pt;">Zapraszamy uczniów szkół średnich i klas 7-8 na zajęcia z Rosalie,
  stażystką Alliance Française.&nbsp; </span><br /><br /><span style="font-s
 ize: 11pt;">Podczas spotkania uczniowie:</span><br /><span style="font-size
 : 11pt;">– poznają francuskie wyrażenia idiomatyczne w sposób zabawny i int
 eraktywny,</span><br /><span style="font-size: 11pt;">– nauczą się rozpozna
 wać polskie słowa pochodzenia francuskiego,</span><br /><span style="font-s
 ize: 11pt;">– wezmą udział w grach i quizach dotyczących kultury francuskie
 j,</span><br /><span style="font-size: 11pt;"><span style="font-family: tim
 es new roman, serif;">–</span> będą mieli okazję dowiedzieć się więcej o mi
 eście, z którego pochodzi Rosalie i zadać jej kilka pytań.</span></span></p
 ><p><span style="font-family: times new roman, serif; font-size: 11pt;">Zaj
 ęcia są dostosowane do poziomu grupy i mają na celu poszerzenie słownictwa,
  pobudzenie ciekawości oraz promocję kultury frankofońskiej.</span></p><p>&
 nbsp;</p><p><br /> <strong>Świat Małego Księcia<br /> zajęcia w języku fran
 cuskim, polskim lub rosyjskim <br /> <br /> </strong>Zapraszamy uczniów sta
 rszych klas szkół podstawowych i liceów na spotkanie poświęcone "Małemu Ksi
 ęciu". W czasie zajęć uczestnicy będą mogli lepiej poznać zarówno świat stw
 orzony przez Antoine'a de Saint Exupery'ego, jak i postać samego autora. Mł
 odszym uczniom proponujemy ponadto złożenie własnego modelu samolotu, zaś s
 tarszym udział w grze z użyciem QR kodów.&nbsp;<br /> <strong><br /> <br />
  Nie taki potwór straszny… <br /> zajęcia w języku rosyjskim lub polskim <b
 r /> <br /> </strong>Zapraszamy uczniów klas 1-5 szkół podstawowych na spot
 kanie ze Sznorkelami: postaciami stworzonymi przez pisarkę i ilustratorkę S
 wietłanę Resheninę. Podczas zajęć uczestnicy będą mogli zapoznać się z twór
 czością autorki, w szczególności z książką "Mamo, to są Sznorkele!". Spotka
 nie zakończy się wspólną grą zaczerpniętą z omawianej opowieści.</p><p><str
 ong>&nbsp;</strong></p><p><strong>Cmentarz Zapomnianych Książek <br /> zaję
 cia w języku hiszpańskim lub polskim <br /> <br /> </strong>Zapraszamy uczn
 iów klas 7-8 i liceów na zajęcia poświęcone „Cieniowi wiatru” Carlosa Ruiza
  Zafona. W czasie zajęć odwiedzimy wspólnie Cmentarz Zapomnianych Książek i
  zanurzymy się w klimat powojennej, frankistowskiej Barcelony. Razem z boha
 terami powieści będziemy też mogli poszukać rozwiązania zagadki dotyczącej 
 tajemniczego kolekcjonera książek. <strong><br /> <br /> <br /> Kosmita w B
 arcelonie <br /> zajęcia w języku hiszpańskim lub polskim</strong></p><p>Za
 praszamy uczniów klas 7-8 i liceów na zajęcia zainspirowane książką „Brak w
 iadomości od Gurba” Eduarda Mendozy. Jak to jest być kosmitą, który próbuje
  odnaleźć się we współczesnej Barcelonie? Niezależnie od tego, z jakimi tru
 dnościami się to wiąże, spróbujemy wspólnie im zaradzić!</p><p><br /><br />
  <br /> Szczegóły dotyczące kolejnych spotkań opublikujemy wkrótce. Zachęca
 my do śledzenia mediów społecznościowych oraz strony Dolnośląskiej Bibliote
 ki Publicznej</p><div class="attachmentsContainer">

<div class="dbpAttachm
 entsList" id="attachmentsList_com_jevents_default_2657"></div>

</div>
CONTACT:RegularLabs.EmailProtector.unCloak("ep_45ecd596");
DTSTAMP:20260419T174327Z
DTSTART;TZID=UTC:20250514T090000
DTEND;TZID=UTC:20250514T103000
SEQUENCE:0
TRANSP:OPAQUE
END:VEVENT
END:VCALENDAR