BEGIN:VCALENDAR
VERSION:2.0
PRODID:-//jEvents 2.0 for Joomla//EN
CALSCALE:GREGORIAN
METHOD:PUBLISH
BEGIN:VEVENT
UID:920a30491f8cc42abcd480734ce8b79f
CATEGORIES:Lekcja biblioteczna, Biblioteka Romańska dla dzieci, Wydarzenie zamknięte
CREATED:20241001T122953
SUMMARY:Szkolne środy
LOCATION:Rynek 58 | sala 31
DESCRIPTION;ENCODING=QUOTED-PRINTABLE:\n\ncykl: Szkolne środy\n\nśrody | godz. 9:00 | sala 31 (Biblioteka Romańsk
 a)&nbsp;\n\nobowiązują zapisy\n\n\nOd października 2024 r. wracamy do spotk
 ań w ramach cyklu Szkolne środy. Zapraszamy do Biblioteki Romańskiej grupy 
 szkolne na zajęcia, które będą miały różne formy: gry, prelekcje, pokazy, w
 arsztaty. Celem spotkań będzie zaprezentowanie i promowanie kultury krajów 
 z romańskiego oraz słowiańskiego kręgu kulturowego. Zajęcia mogą być prowad
 zone w językach: polskim, francuskim, hiszpańskim i rosyjskim.\n\n\nTerminy
  spotkań będziemy ustalać indywidualnie z zainteresowanymi. Sugerowane godz
 iny to 9:00-10:30. \n\nZapraszamy do kontaktu: Biblioteka Romańska, Rynek 5
 8; tel. 71/ 335 22 22; mail: RegularLabs.EmailProtector.unCloak("ep_0a3a077
 0", true);RegularLabs.EmailProtector.unCloak("ep_19a6272c");RegularLabs.Ema
 ilProtector.unCloak("ep_381074fe", true);\n\n\n\nNasze propozycje na najbli
 ższe spotkania:\n\n\n\n\nZajęcia kulturowo-językowe\n\nZapraszamy uczniów s
 zkół średnich i klas 7-8 na zajęcia z Rosalie, stażystką Alliance Française
 .&nbsp; \n\nPodczas spotkania uczniowie:\n– poznają francuskie wyrażenia id
 iomatyczne w sposób zabawny i interaktywny,\n– nauczą się rozpoznawać polsk
 ie słowa pochodzenia francuskiego,\n– wezmą udział w grach i quizach dotycz
 ących kultury francuskiej,\n– będą mieli okazję dowiedzieć się więcej o mie
 ście, z którego pochodzi Rosalie i zadać jej kilka pytań.\n\n\nZajęcia są d
 ostosowane do poziomu grupy i mają na celu poszerzenie słownictwa, pobudzen
 ie ciekawości oraz promocję kultury frankofońskiej.\n\n\n&nbsp;\n\n\n\n Świ
 at Małego Księcia\n zajęcia w języku francuskim, polskim lub rosyjskim \n \
 n Zapraszamy uczniów starszych klas szkół podstawowych i liceów na spotkani
 e poświęcone "Małemu Księciu". W czasie zajęć uczestnicy będą mogli lepiej 
 poznać zarówno świat stworzony przez Antoine'a de Saint Exupery'ego, jak i 
 postać samego autora. Młodszym uczniom proponujemy ponadto złożenie własneg
 o modelu samolotu, zaś starszym udział w grze z użyciem QR kodów.&nbsp;\n \
 n \n Nie taki potwór straszny… \n zajęcia w języku rosyjskim lub polskim \n
  \n Zapraszamy uczniów klas 1-5 szkół podstawowych na spotkanie ze Sznorkel
 ami: postaciami stworzonymi przez pisarkę i ilustratorkę Swietłanę Reshenin
 ę. Podczas zajęć uczestnicy będą mogli zapoznać się z twórczością autorki, 
 w szczególności z książką "Mamo, to są Sznorkele!". Spotkanie zakończy się 
 wspólną grą zaczerpniętą z omawianej opowieści.\n\n\n&nbsp;\n\n\nCmentarz Z
 apomnianych Książek \n zajęcia w języku hiszpańskim lub polskim \n \n Zapra
 szamy uczniów klas 7-8 i liceów na zajęcia poświęcone „Cieniowi wiatru” Car
 losa Ruiza Zafona. W czasie zajęć odwiedzimy wspólnie Cmentarz Zapomnianych
  Książek i zanurzymy się w klimat powojennej, frankistowskiej Barcelony. Ra
 zem z bohaterami powieści będziemy też mogli poszukać rozwiązania zagadki d
 otyczącej tajemniczego kolekcjonera książek. \n \n \n Kosmita w Barcelonie 
 \n zajęcia w języku hiszpańskim lub polskim\n\n\nZapraszamy uczniów klas 7-
 8 i liceów na zajęcia zainspirowane książką „Brak wiadomości od Gurba” Edua
 rda Mendozy. Jak to jest być kosmitą, który próbuje odnaleźć się we współcz
 esnej Barcelonie? Niezależnie od tego, z jakimi trudnościami się to wiąże, 
 spróbujemy wspólnie im zaradzić!\n\n\n\n\n \n Szczegóły dotyczące kolejnych
  spotkań opublikujemy wkrótce. Zachęcamy do śledzenia mediów społecznościow
 ych oraz strony Dolnośląskiej Biblioteki Publicznej\n




CONTACT:RegularLabs.EmailProtector.unCloak("ep_823155d6");
DTSTAMP:20260419T174324Z
DTSTART;TZID=UTC:20250507T090000
DTEND;TZID=UTC:20250507T103000
SEQUENCE:0
TRANSP:OPAQUE
END:VEVENT
END:VCALENDAR