BEGIN:VCALENDAR
VERSION:2.0
PRODID:-//jEvents 2.0 for Joomla//EN
CALSCALE:GREGORIAN
METHOD:PUBLISH
BEGIN:VEVENT
UID:f9600937a6747e1fc85aa8312a7825e4
CATEGORIES:Wydarzenie zamknięte
CREATED:20221114T103434
SUMMARY:Biblioteka Światoteka
LOCATION:Dział Pracy z Dziećmi, DBP, Rynek 58
DESCRIPTION;ENCODING=QUOTED-PRINTABLE:<p style="text-align: justify;"><span style="font-size: 11pt;"></span><span
  style="font-size: 11pt;">To cotygodniowe spotkania&nbsp; w pełni wykorzyst
 ujące potencjał każdego dziecka w wieku 8?12.<br /><br />Pracujemy metodami
  pedagogiki zabawy, wykorzystując&nbsp; wiedzę z zakresu arte- i bibliotera
 pii, łącząc ze sobą teatr, plastykę, muzykę, a przede wszystkim literaturę.
  Rozwijamy zainteresowania, rozbudzamy pasje, uczymy współpracy i tolerancj
 i, poszerzamy wiedzę. Podczas spotkań dziecko nawiąże nowe przyjaźnie, zdob
 ędzie nowe umiejętności, a także będzie miało okazję&nbsp; uczestniczyć w s
 potkaniach z artystami tworzącymi literaturę i sztukę dla dzieci.<br /><br 
 />Zajęcia odbywają się w każdy wtorek o godzinie 17.00.</span></p><div clas
 s="attachmentsContainer">

<div class="dbpAttachmentsList" id="attachmentsL
 ist_com_jevents_default_1827"></div>

</div>
CONTACT:RegularLabs.EmailProtector.unCloak("ep_49771b78");
X-EXTRAINFO:Wydarzenie zamknięte
DTSTAMP:20260422T091950Z
DTSTART;TZID=UTC:20221129T170000
DTEND;TZID=UTC:20221129T183000
SEQUENCE:0
TRANSP:OPAQUE
END:VEVENT
END:VCALENDAR