BEGIN:VCALENDAR
VERSION:2.0
PRODID:-//jEvents 2.0 for Joomla//EN
CALSCALE:GREGORIAN
METHOD:PUBLISH
BEGIN:VEVENT
UID:d4c6f8603f6c49614a84271424caeb9d
CATEGORIES:Dla dorosłych
CREATED:19700101T000000
SUMMARY:15. Targi Książki Regionalnej SILESIANA
LOCATION:DBP | Rynek 58 | sala 35 | III piętro | Namiot ze stoiskami targowymi, pl. 
 Solny
DESCRIPTION;ENCODING=QUOTED-PRINTABLE:\n\nSilesiana - Dolnośląski Salon Wydawniczy\n\n\n7-10 maja 2026 | godz. 10
 :00-19:00\n\n\nDBP | Rynek 58 |&nbsp;pl. Solny\n\n\nwstęp wolny\n\n\n&nbsp;
 \nSilesiana - Dolnośląski Salon Wydawniczy -&nbsp;cykliczna impreza w formi
 e targów książki, organizowana przez Dolnośląską Bibliotekę Publiczną od 20
 10 roku. Wydarzenie jest dofinansowane ze środków Ministra Kultury i Dziedz
 ictwa Narodowego oraz z Budżetu Województwa Dolnośląskiego. Targi połączone
  są ze spotkaniami autorskimi, konkursami i wystawami.\nCelem imprezy jest 
 zaprezentowanie szerokiemu gronu odbiorców dorobku wydawniczego Dolnego Ślą
 ska, ze szczególnym uwzględnieniem publikacji wydawanych przez małe, mniej 
 znane wydawnictwa regionalne. Wydarzenie służy promocji lokalnej twórczości
  literackiej oraz działalności wydawniczej związanej z regionem.\nKsiążka r
 egionalna prezentowana na targach „Silesiana - Dolnośląski Salon Wydawniczy
 ” rozumiana jest dwojako: jako publikacja dotycząca Dolnego Śląska oraz jak
 o każda książka - niezależnie od tematyki, która powstała w regionie, tj. z
 ostała wydana przez miejscowe wydawnictwo lub napisana przez autora związan
 ego z Dolnym Śląskiem.\nPubliczność odwiedzająca targi ma możliwość zapozna
 nia się z książkami, czasopismami oraz innymi materiałami dotyczącymi histo
 rii, kultury, gospodarki i atrakcji turystycznych Dolnego Śląska, a także p
 oznania twórczości lokalnych pisarzy i dziennikarzy.\nTargi oraz wydarzenia
  im towarzyszące wspierają aktywność intelektualną, kulturalną, hobbystyczn
 ą i turystyczną lokalnej społeczności, a także promują i wzmacniają środowi
 sko regionalnych wydawców oraz twórców literackich.\nOd 2012 roku w ramach 
 targów przyznawana jest Nagroda Wydawnicza Silesiana dla publikacji, która 
 poprzez treść, osobę autora i/lub formę edytorską w najlepszy sposób promuj
 e Dolny Śląsk i stanowi wizytówkę regionu.\n
CONTACT:kzborowska@wbp.wroc.pl
DTSTAMP:20260419T162737Z
DTSTART;TZID=UTC:20260507T080000
DTEND;TZID=UTC:20260510T190000
SEQUENCE:0
RRULE:FREQ=DAILY;UNTIL=20260511T000000Z;INTERVAL=1
TRANSP:OPAQUE
END:VEVENT
END:VCALENDAR