BEGIN:VCALENDAR
VERSION:2.0
PRODID:-//jEvents 2.0 for Joomla//EN
CALSCALE:GREGORIAN
METHOD:PUBLISH
BEGIN:VEVENT
UID:09fa7584c9ee19d894ccfb1bd4a8dc1a
CATEGORIES:Spotkanie autorskie
CREATED:20251216T131525
SUMMARY:Spotkanie autorskie z Martą Matyszczak
LOCATION: Rynek 58 | sala 35 | III piętro
DESCRIPTION;ENCODING=QUOTED-PRINTABLE:Spotkanie autorskie z Martą Matyszczak&nbsp;5 marca 2026 | 18:00DBP | Rynek
  58 | sala 35wstęp wolny&nbsp;Chorzowianka z urodzenia, dziennikarka z wyks
 ztałcenia, pasjonatka kryminałów z wyboru. Absolwentka politologii o specja
 lności dziennikarskiej na Uniwersytecie Śląskim w Katowicach. Pisze felieto
 ny dla magazynu „Chorzów. Miasto Kultury”. Od lat związana z literaturą kry
 minalną jako autorka, recenzentka i animatorka życia literackiego.\nProwadz
 i Kawiarenkę Kryminalną (www.kawiarenkakryminalna.pl) - portal poświęcony l
 iteraturze kryminalnej, na którym publikuje recenzje, wywiady z pisarzami, 
 relacje z festiwali, a także organizuje spotkania autorskie i prelekcje dla
  bibliotek dotyczące literatury gatunkowej. Uczestniczka warsztatów literac
 kich podczas Międzynarodowego Festiwalu Kryminału we Wrocławiu oraz Festiwa
 lu Conrada w Krakowie. Laureatka konkursów na opowiadanie kryminalne (MFK W
 rocław, Kryminalna Piła). Adeptka kursu scenariopisarskiego w Warszawskiej 
 Szkole Filmowej, autorka scenariuszy kryminalnych fars teatralnych.\nPrzez 
 kilka lat mieszkała w Galway w Irlandii, gdzie pracowała m.in. w kasynie, g
 astronomii i handlu - doświadczenia te chętnie wykorzystuje w swoich fabuła
 ch. Miłość do kryminałów narodziła się wraz z lekturą powieści Agathy Chris
 tie, a humorystyczny ton twórczości ukształtowały książki Joanny Chmielewsk
 iej. Pisze więc kryminały z przymrużeniem oka.\nJej powieściowym debiutem b
 yła „Tajemnicza śmierć Marianny Biel”, która zapoczątkowała cykl „Kryminał 
 pod Psem” - serię humorystycznych kryminałów z detektywem Szymonem Solański
 m i kundelkiem Guciem w rolach głównych. Kocha psy i podróże, szczególnie t
 e tropem literackich bohaterów - zamiast przewodnika zawsze zabiera ze sobą
  kryminał, sprawdzając, gdzie fikcyjny detektyw pił kawę i gdzie znalazł ci
 ało.\n




CONTACT:RegularLabs.EmailProtector.unCloak("ep_6ffded31");
X-EXTRAINFO:wstęp wolny, dla dorosłych
DTSTAMP:20260419T161202Z
DTSTART;TZID=UTC:20260305T180000
SEQUENCE:0
TRANSP:OPAQUE
END:VEVENT
END:VCALENDAR