BEGIN:VCALENDAR
VERSION:2.0
PRODID:-//jEvents 2.0 for Joomla//EN
CALSCALE:GREGORIAN
METHOD:PUBLISH
BEGIN:VEVENT
UID:1ec18525424399281d9456593fa614f9
CATEGORIES:Dla dorosłych, Biblioteka Romańska dla dorosłych
CREATED:20251216T110723
SUMMARY:Spotkanie autorskie / Klub Czytelnika
LOCATION:Rynek 58 | sala 31
DESCRIPTION;ENCODING=QUOTED-PRINTABLE:\n\nSpotkanie autorskie&nbsp;w ramach&nbsp;Klubu Czytelnika\n\n\nPremiera k
 siążki Patajemna spadczyna\n\n\n7 marca 2026 r.&nbsp;|&nbsp;godz. 13:00\n\n
 \nRynek 58 | Sala 31 | wstęp wolny!\n




CONTACT:RegularLabs.EmailProtector.unCloak("ep_8263557a");
X-EXTRAINFO:wstęp wolny\nspotkanie w języku białoruskim
DTSTAMP:20260419T162748Z
DTSTART;TZID=UTC:20260307T130000
DTEND;TZID=UTC:20260307T153000
SEQUENCE:0
TRANSP:OPAQUE
END:VEVENT
END:VCALENDAR