BEGIN:VCALENDAR
VERSION:2.0
PRODID:-//jEvents 2.0 for Joomla//EN
CALSCALE:GREGORIAN
METHOD:PUBLISH
BEGIN:VEVENT
UID:cb6ef42db2db23b63580a2f981925196
CATEGORIES:Dla dorosłych, Biblioteka Romańska dla dorosłych
CREATED:20251216T105337
SUMMARY:Spotkanie autorskie / Klub Czytelnika  
LOCATION:Rynek 58 | sala 31
DESCRIPTION;ENCODING=QUOTED-PRINTABLE:<p><span style="font-size: 11pt;"><strong>Spotkanie autorskie&nbsp;w ramach
 &nbsp;Klubu Czytelnika</strong></span></p><p><span style="font-size: 11pt;"
 ><strong><span class="Y2IQFc" lang="pl">Premiera książki&nbsp;Darii Rakowej
 </span></strong></span></p><p><span style="font-size: 11pt;"><strong>21 lut
 ego 2026 r.&nbsp;|&nbsp;godz. 13:00</strong></span></p><p><span style="font
 -size: 11pt;"><strong>Rynek 58 | Sala 31 | w</strong><strong>stęp wolny!</s
 trong></span></p><p>&nbsp;</p><p style="text-align: justify;" data-start="6
 70" data-end="758"><span style="font-size: 11pt;"><strong data-start="670" 
 data-end="721">Premiera książki Darii Rakowej „Ja — emigracja”</strong></sp
 an><br data-start="721" data-end="724" /><span style="font-size: 11pt;"> Wy
 dawnictwo: <strong data-start="737" data-end="756">Rozum Publisher</strong>
 </span></p><p style="text-align: justify;" data-start="760" data-end="929">
 <span style="font-size: 11pt;">Emigracja to coś więcej niż walizka, dworzec
  i nowy adres.</span><br data-start="818" data-end="821" /><span style="fon
 t-size: 11pt;"> To spotkanie ze strachem i uprzedzeniami, nowi przyjaciele 
 i straty, to szansa, żeby przeżyć kilka żyć w jednym.</span></p><p style="t
 ext-align: justify;" data-start="931" data-end="1164"><span style="font-siz
 e: 11pt;">Książka Darii Rakowej „Ja — emigracja” opowiada o osobistych dośw
 iadczeniach związanych z przeprowadzką do innego kraju, o trudnościach adap
 tacji i wewnętrznym rozwoju. To szczera i żywa opowieść o tym, jak być sobą
  daleko od domu.</span></p><p>&nbsp;</p><p style="text-align: justify;" dat
 a-start="176" data-end="265"><span style="font-size: 11pt;"><strong data-st
 art="176" data-end="227">Презентация книги Дарьи Раковой «Я — эмиграция»</s
 trong></span><br data-start="227" data-end="230" /><span style="font-size: 
 11pt;"> Издательство: <strong data-start="244" data-end="263">Rozum Publish
 er</strong></span></p><p style="text-align: justify;" data-start="267" data
 -end="437"><span style="font-size: 11pt;">Эмиграция — это больше, чем чемод
 ан, вокзал и новый адрес.</span><br data-start="325" data-end="328" /><span
  style="font-size: 11pt;"> Это встреча со страхами и предрассудками, новые 
 друзья и утраты, это шанс прожить несколько жизней в одной.</span></p><p st
 yle="text-align: justify;" data-start="439" data-end="637"><span style="fon
 t-size: 11pt;">Книга Дарьи Раковой «Я — эмиграция» рассказывает о личном оп
 ыте переезда в другую страну, о сложностях адаптации и внутреннем росте. Эт
 о честная, живая история о том, как быть собой вдали от дома.</span></p><di
 v class="attachmentsContainer">

<div class="dbpAttachmentsList" id="attach
 mentsList_com_jevents_default_3032"></div>

</div>
CONTACT:RegularLabs.EmailProtector.unCloak("ep_437baa2b");
X-EXTRAINFO:wstęp wolny
DTSTAMP:20260419T174029Z
DTSTART;TZID=UTC:20260221T130000
DTEND;TZID=UTC:20260221T153000
SEQUENCE:0
TRANSP:OPAQUE
END:VEVENT
END:VCALENDAR