BEGIN:VCALENDAR
VERSION:2.0
PRODID:-//jEvents 2.0 for Joomla//EN
CALSCALE:GREGORIAN
METHOD:PUBLISH
BEGIN:VEVENT
UID:63272c7a734bf2f217b9b106d042d501
CATEGORIES:Dla dorosłych, Wykład 
CREATED:20251215T115110
SUMMARY:Dookoła Siedmiu Kontynentów: "Wiślada. Kajakowa wędrówka królową polskich rzek"
LOCATION:Rynek 58 | sala 35
DESCRIPTION;ENCODING=QUOTED-PRINTABLE:<div><span style="font-size: 11pt;">z cyklu "Dookoła Siedmiu Kontynentów"</
 span></div><div><span style="font-size: 11pt;"><strong>&nbsp;</strong></spa
 n></div><div class="default-style" style="text-align: justify;"><span style
 ="font-size: 11pt;"><strong>"Wiślada. Kajakowa wędrówka królową polskich rz
 ek"</strong></span></div><div><span style="font-size: 11pt;"><strong>&nbsp;
 </strong></span><span style="font-size: 11pt;"><strong>Spotkanie z podróżni
 kiem Arturem Czermakiem</strong></span></div><div><span style="font-size: 1
 1pt;"><strong>&nbsp;</strong></span></div><div><span style="font-size: 11pt
 ;"><strong>piątek 6 lutego | godz. 17:30&nbsp;|&nbsp;sala 35</strong></span
 ></div><div><span style="font-size: 11pt;"><strong>&nbsp;</strong></span></
 div><div class="default-style" style="text-align: justify;"><span style="fo
 nt-size: 11pt;"></span></div><div class="default-style" style="text-align: 
 justify;"><span style="font-size: 11pt;">„Wiślada” to niespieszna kajakowa 
 wędrówka wodami wielkiej rzeki. Spływ jest pretekstem do&nbsp;</span><span 
 style="font-size: 11pt;">poznania jej dziedzictwa historycznego, kulturoweg
 o i przyrodniczego. Wydawać by się bowiem&nbsp;</span><span style="font-siz
 e: 11pt;">mogło, że obecność Wisły jest dla nas czymś oczywistym jak powiet
 rze. Ilu z nas zdaje sobie jednak sprawę, jakim skarbem jest? Czy znamy opo
 wieść, jaką niosą jej wody?</span></div><div>&nbsp;</div><div class="defaul
 t-style" style="text-align: justify;"><span style="font-size: 11pt;"></span
 ></div><div class="default-style" style="text-align: justify;"><span style=
 "font-size: 11pt;">Wisła przez lata była kręgosłupem Polski i jej najważnie
 jszym szlakiem handlowym. Z Krakowa do Gdańska pływały wyładowane towarami 
 statki flisackie: galary, szkuty i dubasy. Czy z tych tradycji łodziarskich
  coś jeszcze zostało? Czy po Wiśle pływają wciąż łodzie tworzone zgodnie ze
  sztuką szkutnictwa ludowego?&nbsp;</span><span style="font-size: 11pt;">Ró
 wnie ważna co kultura jest w tej opowieści natura. Ze względu na swój unika
 lny charakter –&nbsp;</span><span style="font-size: 11pt;">zachowane natura
 lne koryto, rzeczne wyspy, kępy i łachy, a do tego choćby lasy łęgowe – Wis
 ła stanowi dom i schronienie dla gatunków ptaków, których nie spotkamy niem
 al nigdzie&nbsp; indziej w kraju.</span><br /><br /><span style="font-size:
  11pt;">Mimo swojej wyjątkowości, Wisła nie opiera się presji ludzkiej. Cho
 ć czasy największego trucia&nbsp;</span><span style="font-size: 11pt;">rzek
 i w dobie PRL - u już za nami, jego dziedzictwo jest wciąż żywe, a Wisła mi
 erzy się z wieloma problemami, które wpływają destrukcyjnie na ekosystem. J
 akie to problemy? Czy da się pogodzić ludzkie potrzeby z poszanowaniem środ
 owiska naturalnego Wisły? I co wspólnego ma z tym wszystkim warszawska Syre
 nka?</span></div><div class="default-style" style="text-align: justify;"><s
 pan style="font-size: 11pt;"></span></div><div>&nbsp;</div><div>&nbsp;</div
 ><div class="default-style" style="text-align: justify;"><strong><span styl
 e="font-size: 11pt;">O autorze:</span></strong><br /><span style="font-size
 : 11pt;"><strong>Artur Czermak</strong> – rocznik ’95, wrocławski podróżnik
 , fotograf, absolwent dziennikarstwa oraz historii w przestrzeni publicznej
  na Uniwersytecie Wrocławskim. Autor książek „Empiria. Reportaże z dwudzies
 tu dwóch i jednej drogi na Wschód” i „Błękit pokory. Jachtostopem przez Atl
 antyk” oraz bloga „Gdzie jest Czermak?”. Podróżował m.in. po Kaukazie, Blis
 kim Wschodzie, krajach Azji Centralnej, a przede wszystkim Ameryce Południo
 wej. Miłośnik historii i natury. W 2025 roku wyróżniony w kategorii „Podróż
 ” na Festiwalu Kolosy w Gdyni za projekt „Odryseja. Kajakowa wędrówka od Cz
 ech do Bałtyku”.</span></div><div class="attachmentsContainer">

<div class
 ="dbpAttachmentsList" id="attachmentsList_com_jevents_default_3030"></div>

 
</div>
CONTACT:RegularLabs.EmailProtector.unCloak("ep_5519f6f3");
DTSTAMP:20260419T174151Z
DTSTART;TZID=UTC:20260206T173000
SEQUENCE:0
TRANSP:OPAQUE
END:VEVENT
END:VCALENDAR