BEGIN:VCALENDAR
VERSION:2.0
PRODID:-//jEvents 2.0 for Joomla//EN
CALSCALE:GREGORIAN
METHOD:PUBLISH
BEGIN:VEVENT
UID:0d4361dcf3ed3d543d89e09c82c1804b
CATEGORIES:Zajęcia dla dzieci
CREATED:20170807T201656
SUMMARY:Biblioteczna Akademia Niemowlaka ? ?Tu mam brzuszek!?
LOCATION:Biblioteka 7 Kontynentów, parter
DESCRIPTION;ENCODING=QUOTED-PRINTABLE:<div style="text-align: justify;">	<span style="font-size:14px;"><strong>Bi
 blioteka Siedmiu Kontynent&oacute;w jest dla Wszystkich! Dlatego zapraszamy
  na zajęcia rodzic&oacute;w z najmłodszymi z najmłodszych &ndash; zapraszam
 y na BAN, czyli Biblioteczną Akademią Niemowlaka. Rodzicu, jeśli Tw&oacute;
 j Maluch ma więcej niż 6 miesięcy, a mniej niż 1,5 roku, to te zajęcia są d
 la Was!</strong><br />	<br />	W kwietniu pooglądamy nasze brzuchy, sprawdzi
 my co jest dla nich dobre, a co złe, może nawet uda się poleżeć do g&oacute
 ;ry brzuchem :).</span><br />	<span style="color:#ac9c0c;">- - - - - - - - 
 - - - -</span><br />	<span style="font-size:12px;"><span style="color: rgb(
 128, 0, 0);">?</span><span style="font-family: helvetica;"> BIBLIOTECZNA AK
 ADEMIA NIEMOWLAKA</span> to comiesięczne spotkania w Bibliotece Siedmiu Kon
 tynent&oacute;w skierowane do najmłodszych czytelnik&oacute;w od 6 miesięcy
  do 1,5 roku. Słowo, wiersz, piosenka będą naszą instrukcja i inspiracją, k
 t&oacute;ra na zajęciach wzbogacona będzie o muzykę na żywo, r&oacute;żnora
 kie zabawy, zwłaszcza muzyczne oraz szczyptę doznań plastycznych. Dzięki od
 powiednio skonstruowanej stymulacji będziemy pomagać naszym Pociechom pozna
 wać siebie i świat, a przede wszystkim wspierać prawidłowy ich rozw&oacute;
 j. Zajęcia przygotowuje i prowadzi Amelia Jachimowicz.</span><br />	<span s
 tyle="color:#ac9c0c;">- - - - - - - - - - - -</span><br />	<span style="fon
 t-size:10px;">Link do zdjęcia </span><a href="https://www.flickr.com/photos
 /tomhe/138275925/in/photolist-ddGBF-8Lty14-4qK2Rz-4qP7o3-z4iya-8uu66u-e5GLw
 Z-oEA5j3-cERdho-e5GLrK-aYTno4-e5GLtM-aYTkeH-aYTj2t-aYTgbe-4qP7wy-7rBWju-4rw
 jjA-mhUjP-kLDUV-Wpq4L-4RyzsJ-5qKwcM-Wpq5d-5dKbx4-k5rVe-e5GLrg-nTNwuD" targe
 t="_blank"><span style="color:#B22222;"><span style="font-size:10px;">&gt;&
 gt;</span></span></a></div><div class="attachmentsContainer">

<div class="
 dbpAttachmentsList" id="attachmentsList_com_jevents_default_807"></div>

</
 div>
CONTACT:Zapisy od 9 kwietnia \nna miejscu lub telefonicznie \n71 33 52 217\nw godz. otwarcia biblioteki
X-EXTRAINFO:Obowiązują zapisy!
DTSTAMP:20260422T095950Z
DTSTART;TZID=UTC:20180412T150000
DTEND;TZID=UTC:20180412T160000
SEQUENCE:0
TRANSP:OPAQUE
END:VEVENT
END:VCALENDAR