BEGIN:VCALENDAR
VERSION:2.0
PRODID:-//jEvents 2.0 for Joomla//EN
CALSCALE:GREGORIAN
METHOD:PUBLISH
BEGIN:VEVENT
UID:d6ba8c71ad9e1b8412d9c19cb927c84d
CATEGORIES:Dla dorosłych, Dla dzieci i młodzieży
CREATED:20251125T134952
SUMMARY:Zgrajmy Się! Rozgrywki planszówkowe dla wszystkich w bibliotece  
LOCATION:DBP, Rynek 58, piętro 3, sala 35
DESCRIPTION;ENCODING=QUOTED-PRINTABLE:\n\nZgrajmy Się! Rozgrywki planszówkowe dla wszystkich w bibliotece \n28 ma
 ja 2026 | godz. 16:00-21:00 \nDBP | Rynek 58\nwstęp wolny\n\nZapraszamy na 
 otwarte, comiesięczne spotkania z grami planszowymi, które odbywają się w k
 ażdy ostatni czwartek miesiąca od godziny 16:00 do 21:00 w sali 35!\n\n\nTo
  świetna okazja, aby:\n\n - Poznać nowe gry planszowe i nauczyć się zasad,\
 n - Spędzić czas w miłym towarzystwie,\n - Odkryć tytuły dostępne w naszej 
 kolekcji do wypożyczenia.\n\nSpotkania są otwarte dla wszystkich – bez wzgl
 ędu na wiek czy doświadczenie w grach. Możesz przyjść sam, z rodziną lub pr
 zyjaciółmi.\n\n\nChętnie doradzamy przy wyborze gry oraz tłumaczymy zasady.
 \n\n\nNa każdym spotkaniu mamy do zaoferowania nowe tytuły!\n\n\nDo zobacze
 nia przy planszy!\n\n\n&nbsp;\n\n\nFacebook: Zgrajmy się, planszówki w Bibl
 iotece Dolnośląskiej\n




CONTACT:RegularLabs.EmailProtector.unCloak("ep_4796c984");
DTSTAMP:20260419T163049Z
DTSTART;TZID=UTC:20260528T160000
DTEND;TZID=UTC:20260528T210000
SEQUENCE:0
TRANSP:OPAQUE
END:VEVENT
END:VCALENDAR