BEGIN:VCALENDAR
VERSION:2.0
PRODID:-//jEvents 2.0 for Joomla//EN
CALSCALE:GREGORIAN
METHOD:PUBLISH
BEGIN:VEVENT
UID:3044210989ca502eeefb75152fa1b5b4
CATEGORIES:Dla dorosłych, Dla dzieci i młodzieży
CREATED:20251125T134855
SUMMARY:Zgrajmy Się! Rozgrywki planszówkowe dla wszystkich w bibliotece  
LOCATION:DBP, Rynek 58, piętro 3, sala 35
DESCRIPTION;ENCODING=QUOTED-PRINTABLE:<p><span style="font-size: 11pt;"><strong>Zgrajmy Się! Rozgrywki planszówko
 we dla wszystkich w bibliotece </strong></span></p><div class="default-styl
 e"><span style="font-size: 11pt;"><strong>26 marca 2026 | godz. 16:00-21:00
  <br /></strong></span></div><div class="default-style"><span style="font-s
 ize: 11pt;"><strong>DBP | Rynek 58<br /></strong></span></div><div class="d
 efault-style"><span style="font-size: 11pt;"><strong>wstęp wolny</strong></
 span></div><div><span style="font-size: 11pt;"></span></div><div><p><span s
 tyle="font-size: 11pt;">Zapraszamy na otwarte, comiesięczne spotkania z gra
 mi planszowymi, które odbywają się w każdy ostatni czwartek miesiąca od god
 ziny 16:00 do 21:00 w sali 35!</span></p><p><span style="font-size: 11pt;">
 To świetna okazja, aby:</span></p><ul><li><span style="font-size: 11pt;">Po
 znać nowe gry planszowe i nauczyć się zasad,</span></li><li><span style="fo
 nt-size: 11pt;">Spędzić czas w miłym towarzystwie,</span></li><li><span sty
 le="font-size: 11pt;">Odkryć tytuły dostępne w naszej kolekcji do wypożycze
 nia.</span></li></ul><p><span style="font-size: 11pt;">Spotkania są otwarte
  dla wszystkich – bez względu na wiek czy doświadczenie w grach. Możesz prz
 yjść sam, z rodziną lub przyjaciółmi.</span></p><p><span style="font-size: 
 11pt;">Chętnie doradzamy przy wyborze gry oraz tłumaczymy zasady.</span></p
 ><p><span style="font-size: 11pt;">Na każdym spotkaniu mamy do zaoferowania
  nowe tytuły!</span></p><p><span style="font-size: 11pt;">Do zobaczenia prz
 y planszy!</span></p><p>&nbsp;</p><p><span style="font-size: 11pt;"><strong
 >Facebook</strong>: <a href="https://www.facebook.com/zgrajmysiewdolnoslask
 iej">Zgrajmy się, planszówki w Bibliotece Dolnośląskiej</a></span></p></div
 ><div class="attachmentsContainer">

<div class="dbpAttachmentsList" id="at
 tachmentsList_com_jevents_default_3016"></div>

</div>
CONTACT:RegularLabs.EmailProtector.unCloak("ep_d97cfe7e");
DTSTAMP:20260419T162905Z
DTSTART;TZID=UTC:20260326T160000
DTEND;TZID=UTC:20260326T210000
SEQUENCE:0
TRANSP:OPAQUE
END:VEVENT
END:VCALENDAR