BEGIN:VCALENDAR
VERSION:2.0
PRODID:-//jEvents 2.0 for Joomla//EN
CALSCALE:GREGORIAN
METHOD:PUBLISH
BEGIN:VEVENT
UID:53e6855e89f9adf4def0d538fb8ac66a
CATEGORIES:Dla dorosłych, Spotkanie klubowe
CREATED:20251010T090459
SUMMARY:Dyskusyjny Klub Książki Zekranizowanej
LOCATION:DBP, Rynek 58
DESCRIPTION;ENCODING=QUOTED-PRINTABLE:<p style="text-align: justify;"><span style="color: #000000; font-size: 11p
 t;"><strong>DYSKUSYJNY KLUB KSIĄŻKI ZEKRANIZOWANEJ</strong></span></p><p st
 yle="text-align: justify;"><span style="color: #000000; font-size: 11pt;"><
 strong>13 maja 2026 | godz. 17:00</strong></span></p><p style="text-align: 
 justify;"><span style="color: #000000; font-size: 11pt;"><strong>DBP | Ryne
 k 58&nbsp;</strong></span></p><p style="text-align: justify;"><span style="
 color: #000000; font-size: 11pt;"><strong>wstęp wolny</strong></span></p><d
 iv>&nbsp;</div><div class="default-style" style="text-align: justify;"><div
  data-canvas-width="603.1519999999997"><p><span style="font-size: 11pt;">Je
 śli lubisz poznawać historię najpierw z kart książki, a dopiero później ogl
 ądać jej ekranizację, to spotkania naszego Klubu są właśnie dla Ciebie! To 
 przestrzeń dla osób, które cenią zarówno literaturę, jak i kino, i chcą por
 ównywać, analizować oraz dyskutować o tym, co zmienia się w przejściu od sł
 owa do obrazu.</span></p><p><span style="font-size: 11pt;">Podczas naszych 
 spotkań sięgamy po powieści, które zostały przeniesione na ekran – zarówno 
 te nowe, ekranizowane przez platformy streamingowe, jak i klasyczne dzieła,
  które od lat inspirują twórców filmowych. Czy film może być lepszy od ksią
 żki? A może to właśnie książka jest zawsze bardziej szczegółowa, głębsza, b
 ogatsza w sensy? Te i inne pytania stawiamy sobie, rozmawiając o obu wersja
 ch tej samej opowieści.</span></p></div></div><div class="attachmentsContai
 ner">

<div class="dbpAttachmentsList" id="attachmentsList_com_jevents_defa
 ult_2979"></div>

</div>
CONTACT:RegularLabs.EmailProtector.unCloak("ep_01257cd7");; RegularLabs.EmailProtector.unCloak("ep_f9e2b4b9");
DTSTAMP:20260419T162900Z
DTSTART;TZID=UTC:20260513T170000
DTEND;TZID=UTC:20260513T180000
SEQUENCE:0
TRANSP:OPAQUE
END:VEVENT
END:VCALENDAR