BEGIN:VCALENDAR
VERSION:2.0
PRODID:-//jEvents 2.0 for Joomla//EN
CALSCALE:GREGORIAN
METHOD:PUBLISH
BEGIN:VEVENT
UID:6857a8e27b5a1961d328e8554945aa0f
CATEGORIES:Dla dorosłych, Wykład 
CREATED:20250819T100159
SUMMARY:Cykl "Dookoła Siedmiu Kontynentów": JAPONIA
LOCATION: DBP, Rynek 58, piętro III, sala 35
DESCRIPTION;ENCODING=QUOTED-PRINTABLE:Cykl "Dookoła Siedmiu Kontynentów"piątek 19 września | godz. 17:30 | sala 3
 5&nbsp;JAPONIA&nbsp;– kraj kwitnącej wiśni i lodów o smaku zielonej herbaty
 ...&nbsp;Spotkanie z Bolesławem Grabowskim&nbsp;\nJaponia to jedyny w swoim
  rodzaju kraj, gdzie tradycja i nowoczesność tworzą wspólną całość. Kraj kw
 itnących wiśni, „kapsułowych” hoteli, buddyjskich mnichów i niezwykłej cere
 monii picia herbaty. Zobaczyć tu można urzędnika kłaniającego się nisko kli
 entowi podczas rozmowy przez telefon komórkowy i zjeść lody o smaku zielone
 j herbaty czy fasoli. Bolesław Grabowski zaprezentuje trzy stolice Japonii 
 – Tokio, Kioto i Nara oraz wulkan Fudżi, opowie o japońskiej szkole, pokaże
  tradycyjny dom japoński. Opowieść o Japonii ubarwiona jest prezentacją kim
 on, przyrządów do pisania i wielu ciekawych pamiątek.\n




CONTACT:RegularLabs.EmailProtector.unCloak("ep_ce57e6db");
DTSTAMP:20260422T101456Z
DTSTART;TZID=UTC:20250919T173000
SEQUENCE:0
TRANSP:OPAQUE
END:VEVENT
END:VCALENDAR