BEGIN:VCALENDAR
VERSION:2.0
PRODID:-//jEvents 2.0 for Joomla//EN
CALSCALE:GREGORIAN
METHOD:PUBLISH
BEGIN:VEVENT
UID:a1f63f88cdef30d872f9c2c51d4e6b7f
CATEGORIES:Impreza dla czytelników, Spotkanie autorskie, Spotkanie klubowe
CREATED:20250807T125901
SUMMARY:Światowy Dzień Publicznego Czytania Komiksów
LOCATION:Księgarnia Hiszpańska, Uniwersytecka 19/20
DESCRIPTION;ENCODING=QUOTED-PRINTABLE:<p><strong>Serdecznie zapraszamy w ramach naszego Dyskusyjnego Klubu Komiks
 u "Wykolejeni" na...</strong></p><p><strong>Światowy Dzień Publicznego Czyt
 ania Komiksów!</strong></p><p>28 sierpnia 2025 | 17:00</p><p>Księgarnia His
 zpańska, ul. Uniwersytecka 19-20</p><p>&nbsp;</p><p>Światowy Dzień Publiczn
 ego Czytania Komiksów to nie tylko święto miłośników powieści graficznych. 
 To przede wszystkim pretekst do promocji sztuki i czytelnictwa w nowoczesne
 j formie i jakości.</p><p>Komiks łączy słowo i obraz, rozwija wyobraźnię, i
 nspiruje do czytania i jest doskonałym punktem wyjścia do rozmowy o kulturz
 e, społeczeństwie i emocjach.&nbsp;28 sierpnia spotkajmy się w Księgarni Hi
 szpańskiej, by wspólnie celebrować czytanie: głośno, publicznie i z pasją!<
 /p><p>W programie:&nbsp;</p><ul><li>Otwarta giełda używanych komiksów.</li>
 <li>Przegląd i rekomendacje współczesnych polskich komiksów | Aśka Grzelczy
 k.</li><li>Prelekcja Pawła Dembowskiego o Eternaucie.</li><li>Spotkanie aut
 orskie z Pawłem Rzodkiewiczem i Jakubem Kwiatkowskim (opowiedzą o swoim Cir
 cus Magnum).</li><li>Dyksusyjny Klub Komiksu Wykolejeni - porozmawiamy o Ci
 rcus Magnum i Terra Incognita Łukasza Ryłko.</li></ul><p>Opiekunka klubu i 
 pomysłodawczyni wydarzenia: Joanna Grzelczyk</p><div class="attachmentsCont
 ainer">

<div class="dbpAttachmentsList" id="attachmentsList_com_jevents_de
 fault_2944"></div>

</div>
CONTACT:RegularLabs.EmailProtector.unCloak("ep_243c6392");
X-EXTRAINFO:wstęp wolny
DTSTAMP:20260419T163555Z
DTSTART;TZID=UTC:20250828T170000
SEQUENCE:0
TRANSP:OPAQUE
END:VEVENT
END:VCALENDAR