BEGIN:VCALENDAR
VERSION:2.0
PRODID:-//jEvents 2.0 for Joomla//EN
CALSCALE:GREGORIAN
METHOD:PUBLISH
BEGIN:VEVENT
UID:e0c8261597ad431bb37e098c17babc1c
CATEGORIES:Dla dorosłych, Dyskusyjny Klub Książki Kryminalnej "Zbrodnia we wtorek", Spotkanie klubowe
CREATED:20250721T101331
SUMMARY:DKK Zbrodnia we wtorek
LOCATION:DBP | Rynek 58 | III piętro | sala 35
DESCRIPTION;ENCODING=QUOTED-PRINTABLE:<p><span style="font-size: 11pt;"><strong>DYSKUSYJNY KLUB KSIĄŻKI "Zbrodnia
  we wtorek"<br /></strong></span></p><div class="default-style"><span style
 ="font-size: 11pt;"><strong>16 czerwca 2026 | godz. 17:00&nbsp;</strong></s
 pan></div><div class="default-style"><span style="font-size: 11pt;"><strong
 >DBP | Rynek 58 | III piętro | sala 35<br /></strong></span></div><div clas
 s="default-style"><span style="font-size: 11pt;"><strong>wstęp wolny</stron
 g></span></div><div><span style="font-size: 11pt;"></span><br /><span style
 ="font-size: 11pt;">Jeśli jesteś miłośnikiem kryminałów, fascynują Cię skom
 plikowane intrygi, nieoczywiści bohaterowie i zaskakujące zakończenia – mam
 y coś specjalnie dla Ciebie! Biblioteka zaprasza na cykliczne spotkania <st
 rong>Dyskusyjnego Klubu Książki „Zbrodnia we wtorek”</strong>, dedykowanego
  fanom literatury kryminalnej.</span></div><div>&nbsp;</div><div><span styl
 e="font-size: 11pt;">Dzięki spotkaniom klubu poznasz książki, które mogą Ci
 ę zaskoczyć, poruszyć lub skłonić do refleksji – nie tylko klasyki, ale i n
 owości literackie.</span></div><div>&nbsp;</div><div><span style="font-size
 : 11pt;">Porozmawiamy o najlepszych detektywach, zagadkach i autorach, któr
 zy zmieniają oblicze współczesnego kryminału.</span></div><div>&nbsp;</div>
 <p><span style="font-size: 11pt;">Spotkania odbywają się <strong>we wtorki,
  raz w miesiącu</strong>, w naszej bibliotece przy Rynek 58.</span></p><p>&
 nbsp;</p><p><span style="font-size: 11pt;">Tym razem na spotkanie wybraliśm
 y książkę <strong>"Pielęgniarka" J.A. Corrigan</strong>&nbsp;– możesz podzi
 elić się swoimi przemyśleniami albo po prostu posłuchać innych.</span></p><
 p>&nbsp;</p><div><p><span style="font-size: 11pt;">Opiekunki klubu: Izabela
  Jaszczyszyn i Katarzyna Zborowska.</span></p></div><div class="attachments
 Container">

<div class="dbpAttachmentsList" id="attachmentsList_com_jevent
 s_default_2937"></div>

</div>
CONTACT:RegularLabs.EmailProtector.unCloak("ep_4f33adde");, RegularLabs.EmailProtector.unCloak("ep_eb2ea0a8");
DTSTAMP:20260419T163533Z
DTSTART;TZID=UTC:20260616T170000
SEQUENCE:0
TRANSP:OPAQUE
END:VEVENT
END:VCALENDAR