BEGIN:VCALENDAR
VERSION:2.0
PRODID:-//jEvents 2.0 for Joomla//EN
CALSCALE:GREGORIAN
METHOD:PUBLISH
BEGIN:VEVENT
UID:3c150c289df03a7ba4740e6c56a6430c
CATEGORIES:Dla dorosłych, Dyskusyjny Klub Książki Kryminalnej "Zbrodnia we wtorek", Spotkanie klubowe
CREATED:20250721T100913
SUMMARY:DKK Zbrodnia we wtorek
LOCATION:DBP | Rynek 58 | III piętro | sala 35
DESCRIPTION;ENCODING=QUOTED-PRINTABLE:<p><span style="font-size: 11pt;"><strong>DYSKUSYJNY KLUB KSIĄŻKI "Zbrodnia
  we wtorek"<br /></strong></span></p><div class="default-style"><span style
 ="font-size: 11pt;"><strong>19 maja 2026 | godz. 17:00&nbsp;</strong></span
 ></div><div class="default-style"><span style="font-size: 11pt;"><strong>DB
 P | Rynek 58 | III piętro | sala 35<br /></strong></span></div><div class="
 default-style"><span style="font-size: 11pt;"><strong>wstęp wolny</strong><
 /span></div><div><span style="font-size: 11pt;"></span><br /><span style="f
 ont-size: 11pt;">Jeśli jesteś miłośnikiem kryminałów, fascynują Cię skompli
 kowane intrygi, nieoczywiści bohaterowie i zaskakujące zakończenia – mamy c
 oś specjalnie dla Ciebie! Biblioteka zaprasza na cykliczne spotkania <stron
 g>Dyskusyjnego Klubu Książki „Zbrodnia we wtorek”</strong>, dedykowanego fa
 nom literatury kryminalnej.</span></div><div>&nbsp;</div><div><span style="
 font-size: 11pt;">Dzięki spotkaniom klubu poznasz książki, które mogą Cię z
 askoczyć, poruszyć lub skłonić do refleksji – nie tylko klasyki, ale i nowo
 ści literackie.</span></div><div>&nbsp;</div><div><span style="font-size: 1
 1pt;">Porozmawiamy o najlepszych detektywach, zagadkach i autorach, którzy 
 zmieniają oblicze współczesnego kryminału.</span></div><div>&nbsp;</div><p>
 <span style="font-size: 11pt;">Spotkania odbywają się <strong>we wtorki, ra
 z w miesiącu</strong>, w naszej bibliotece przy Rynek 58.</span></p><p>&nbs
 p;</p><p><span style="font-size: 11pt;">Tym razem na spotkanie wybraliśmy k
 siążki: <strong>"Morderstwo na Sekwanie" Michela Bussi&nbsp;</strong>oraz <
 strong>"Pod kluczem" Ruth Ware</strong>&nbsp;– możesz podzielić się swoimi 
 przemyśleniami albo po prostu posłuchać innych.</span></p><p>&nbsp;</p><div
 ><p><span style="font-size: 11pt;">Opiekunki klubu: Izabela Jaszczyszyn i K
 atarzyna Zborowska.</span></p></div><div class="attachmentsContainer">

<di
 v class="dbpAttachmentsList" id="attachmentsList_com_jevents_default_2935">
 </div>

</div>
CONTACT:RegularLabs.EmailProtector.unCloak("ep_b7224e38");, RegularLabs.EmailProtector.unCloak("ep_27a1fd71");
DTSTAMP:20260419T163730Z
DTSTART;TZID=UTC:20260519T170000
SEQUENCE:0
TRANSP:OPAQUE
END:VEVENT
END:VCALENDAR