BEGIN:VCALENDAR
VERSION:2.0
PRODID:-//jEvents 2.0 for Joomla//EN
CALSCALE:GREGORIAN
METHOD:PUBLISH
BEGIN:VEVENT
UID:c271cec82326b5bd74c72c6074f50833
CATEGORIES:Dla dorosłych, Dyskusyjny Klub Książki Kryminalnej "Zbrodnia we wtorek", Spotkanie klubowe
CREATED:20250721T081656
SUMMARY:DKK Zbrodnia we wtorek
LOCATION:DBP | Rynek 58 | III piętro | sala 35
DESCRIPTION;ENCODING=QUOTED-PRINTABLE:\n\nDYSKUSYJNY KLUB KSIĄŻKI "Zbrodnia we wtorek"\n\n17 luty 2026 | godz. 17
 :00&nbsp;DBP | Rynek 58 | III piętro | sala 35\nwstęp wolny\nJeśli jesteś m
 iłośnikiem kryminałów, fascynują Cię skomplikowane intrygi, nieoczywiści bo
 haterowie i zaskakujące zakończenia – mamy coś specjalnie dla Ciebie! Bibli
 oteka zaprasza na cykliczne spotkania Dyskusyjnego Klubu Książki „Zbrodnia 
 we wtorek”, dedykowanego fanom literatury kryminalnej.&nbsp;Dzięki spotkani
 om klubu poznasz książki, które mogą Cię zaskoczyć, poruszyć lub skłonić do
  refleksji – nie tylko klasyki, ale i nowości literackie.&nbsp;Porozmawiamy
  o najlepszych detektywach, zagadkach i autorach, którzy zmieniają oblicze 
 współczesnego kryminału.&nbsp;\n\nSpotkania odbywają się we wtorki, raz w m
 iesiącu, w naszej bibliotece przy Rynek 58.\n\n\n&nbsp;\n\n\nTym razem na s
 potkanie wybraliśmy książkę "Jak odkryć własnego mordercę?" Kristen Perrin&
 nbsp;– możesz podzielić się swoimi przemyśleniami albo po prostu posłuchać 
 innych.\n\n\n&nbsp;\n\n\nOpiekunki klubu: Izabela Jaszczyszyn i Katarzyna Z
 borowska.\n




CONTACT:RegularLabs.EmailProtector.unCloak("ep_6da7b639");, RegularLabs.EmailProtector.unCloak("ep_7e35dbfd");
DTSTAMP:20260419T174004Z
DTSTART;TZID=UTC:20260217T170000
SEQUENCE:0
TRANSP:OPAQUE
END:VEVENT
END:VCALENDAR