BEGIN:VCALENDAR
VERSION:2.0
PRODID:-//jEvents 2.0 for Joomla//EN
CALSCALE:GREGORIAN
METHOD:PUBLISH
BEGIN:VEVENT
UID:7cfe7d2a6349bf2b86b88147eb8bf94d
CATEGORIES:Zajęcia dla młodzieży, Dla dzieci i młodzieży
CREATED:20250630T104745
SUMMARY:NIEZIEMSKIE MALOWANIE | warsztaty dla młodzieży
LOCATION:Dział Pracy z Dziećmi | Rynek 58 | parter
DESCRIPTION;ENCODING=QUOTED-PRINTABLE:\n\nNIEZIEMSKIE MALOWANIE | warsztaty artystyczne\n\n\n16 lipca 2025 | 11:0
 0\n\n\ndla nastolatków 12-15 lat\n\nZapraszamy na nieziemskie malowanie abs
 trakcyjnych obrazów inspirowanych krajobrazami ziemi widzianej z kosmosu – 
 plamy oceanów, pasma górskie, wulkaniczne wyspy czy pustynne struktury będą
  punktem wyjścia do kreatywnej zabawy.\n\nUprzedzamy, że planujemy przeprow
 adzić warsztaty artystyczne z użyciem&nbsp;tuszy alkoholowych&nbsp;– to bez
 pieczna, nowoczesna i efektowna technika plastyczna, szeroko stosowana w ed
 ukacji artystycznej. Używane tusze zawierają niewielką ilość alkoholu techn
 icznego, który szybko odparowuje – zajęcia odbędą się w dobrze wentylowanym
  pomieszczeniu, a dzieci będą pracować pod opieką osoby prowadzącej, z zach
 owaniem zasad bezpieczeństwa.\n&nbsp;&nbsp;




CONTACT:RegularLabs.EmailProtector.unCloak("ep_24300a3f");
X-EXTRAINFO:warsztaty bezpłatne, zapisy: 71 335 22 17
DTSTAMP:20260419T173853Z
DTSTART;TZID=UTC:20250716T110000
SEQUENCE:0
TRANSP:OPAQUE
END:VEVENT
END:VCALENDAR