BEGIN:VCALENDAR
VERSION:2.0
PRODID:-//jEvents 2.0 for Joomla//EN
CALSCALE:GREGORIAN
METHOD:PUBLISH
BEGIN:VEVENT
UID:fe847935d68a3828ca0079973d95f019
CATEGORIES:Dla dorosłych, Spotkanie klubowe
CREATED:20250625T074506
SUMMARY: DKK Zaczytany Rynek 58
LOCATION:DBP | Rynek 58 | I piętro | Biblioteka Niemiecka
DESCRIPTION;ENCODING=QUOTED-PRINTABLE:<p><strong>Dyskusyjny Klub Książki "Zaczytany Rynek 58"</strong></p><p clas
 s="default-style"><strong>24 czerwca 2026 | godz. 16:15<br /></strong></p><
 p class="default-style"><strong>DBP | Rynek 58 | I piętro | Biblioteka Niem
 iecka</strong></p><p style="text-align: justify;">&nbsp;</p><p style="text-
 align: justify;">Zapraszamy do kamienicy przy Rynku 58, gdzie każda książka
  kryje w sobie wyjątkową i niepowtarzalną opowieść.</p><p style="text-align
 : justify;">Nasz Dyskusyjny Klub Książki jest przeznaczony dla dorosłych mi
 łośników literatury, ze szczególnym uwzględnieniem biografii, reportaży ora
 z książek historycznych. Spotkania mają charakter otwarty, dlatego każdy za
 interesowany może dołączyć do naszych rozmów.</p><p style="text-align: just
 ify;">Spotykamy się raz w miesiącu, a forma spotkań bywa różnorodna – czase
 m są to wykłady, jednak szczególnie zachęcamy do aktywnej dyskusji i wymian
 y opinii w gronie pasjonatów literatury.</p><p>37 rozmów z różnymi autorami
  do czytania przez około 14 godzin, czyli <strong><em>„Z niejednej półki. W
 ywiady”</em></strong>. Książka <strong><em>Michała Nogasia</em></strong>.</
 p><p style="text-align: justify;">Serdecznie zapraszamy do udziału w dyskus
 ji!</p><p>&nbsp;</p><p>Informacje na temat dostepności oraz dojazdu do Bibl
 ioteki dostępne są na stronie <a href="pl/deklaracja-dostepnosci#dojazd">ht
 tps://www.wbp.wroc.pl/wbp/pl/deklaracja-dostepnosci#dojazd</a></p><p>&nbsp;
 </p><div class="attachmentsContainer">

<div class="dbpAttachmentsList" id=
 "attachmentsList_com_jevents_default_2918"></div>

</div>
CONTACT:RegularLabs.EmailProtector.unCloak("ep_3827ad6e"); 
X-EXTRAINFO:wstęp wolny
DTSTAMP:20260419T163556Z
DTSTART;TZID=UTC:20260624T161500
SEQUENCE:0
TRANSP:OPAQUE
END:VEVENT
END:VCALENDAR