BEGIN:VCALENDAR
VERSION:2.0
PRODID:-//jEvents 2.0 for Joomla//EN
CALSCALE:GREGORIAN
METHOD:PUBLISH
BEGIN:VEVENT
UID:570cc61d6d53f7406a3d444c84fa89e4
CATEGORIES:Spotkanie autorskie
CREATED:20250616T121958
SUMMARY:MIASTO ODZYSKANE - spotkanie z Janem Jerzmańskim
LOCATION:Rynek 58 | sala 35 | III piętro
DESCRIPTION;ENCODING=QUOTED-PRINTABLE:<p><span style="font-size: 12pt;"><strong>Spotkanie autorskie z Janem Jerzm
 ańskim</strong></span></p><p><span style="font-size: 12pt;"><strong>MIASTO 
 ODZYSKANE</strong></span></p><p>&nbsp;</p><p><strong>1 lipca 2025 (Międzyna
 rodowy Dzień Architektury) | 17:00&nbsp;</strong></p><p><strong>Rynek 58 | 
 sala 35 (3. piętro) | wstęp wolny</strong></p><p>&nbsp;</p><p style="text-a
 lign: justify;"><strong>Jan Jerzmański</strong> z wykształcenia jest archit
 ektem, w praktyce zajmuje się grafiką komputerową poświęconą dziedzictwu ku
 lturowemu Dolnego Śląska. Temat miał okazję zgłębiać od czasów szkolnych (k
 lasa śląskoznawcza we wrocławskim IX LO, Wydział Architektury Politechniki 
 Wrocławskiej, kierunek <strong>Ochrona Zabytków</strong>), jest administrat
 orem fanpege'a <a href="https://www.facebook.com/CzerwonaListaZabytkow"><st
 rong>Czerwona Lista Zabytków Dolnego Śląska</strong></a>, wypowiada się dla
  lokalnych mediów, od 11 lat tworzy serie rysunkowe z wrocławską architektu
 rą, od roku 2021 miał we Wrocławiu 4 autorskie wystawy. W ostatniej dekadzi
 e angażował się w społeczne akcje dotyczące ratowania wrocławskich budynków
  zabytkowych przed rozbiórką (Basen Olimpijski, kamienice przy ul. Pułaskie
 go i inne).</p><p style="text-align: justify;">Podczas spotkania autor, na 
 bazie własnych materiałów graficznych (zdjęcia, rysunki techniczne, modele 
 3D, komputerowe grafiki artystyczne), zaprezentuje te wrocławskie budowle, 
 które już nie istnieją (wieża widokowa na Osobowicach, stadion pływacki na 
 Terenach Olimpijskich na Zalesiu), te, które w efekcie powojennej przebudow
 y straciły na walorze architektonicznym (kościół ewangelicki na osiedlu Sęp
 olno), a nawet takie, które nigdy nie zaistniały, a mimo to zapisały się w 
 historii miasta (niezrealizowany projekt wieżowca u zbiegu Rynku i Placu So
 lnego).&nbsp;&nbsp;</p><p style="text-align: justify;"><strong>Autorski alb
 um "<a href="https://allegrolokalnie.pl/oferta/miasto-odzyskane-wroclaw-na-
 grafikach-jana-jerzmanskiego">Miasto odzyskane</a>"</strong> powstał pod pa
 tronatem Stowarzyszenia Architektów RP, ukazał się w 80. rocznicę "stolicy 
 Ziem Odzyskanych". 176 stron, 8 felietonów przyporządkowanych rozdziałom, 1
 70 autorskich grafik i rysunków technicznych.</p><p style="text-align: just
 ify;"><strong>W trakcie spotkania zaprezentowane będą efekty rocznego stype
 ndium artystycznego Marszałka Województwa Dolnośląskiego (2024) oraz będzie
 &nbsp;</strong><strong>możliowść zakupu książki.&nbsp;</strong></p><div cla
 ss="attachmentsContainer">

<div class="dbpAttachmentsList" id="attachments
 List_com_jevents_default_2904"></div>

</div>
CONTACT:RegularLabs.EmailProtector.unCloak("ep_68c7ef51");
X-EXTRAINFO:wstęp wolny
DTSTAMP:20260419T174338Z
DTSTART;TZID=UTC:20250701T170000
DTEND;TZID=UTC:20250701T183000
SEQUENCE:0
TRANSP:OPAQUE
END:VEVENT
END:VCALENDAR