BEGIN:VCALENDAR
VERSION:2.0
PRODID:-//jEvents 2.0 for Joomla//EN
CALSCALE:GREGORIAN
METHOD:PUBLISH
BEGIN:VEVENT
UID:1890659315296b98acc699e0665969e5
CATEGORIES:Wykład , Cykl: Wszechnica wiedzy o Wrocławiu
CREATED:20250613T093814
SUMMARY:Wszechnica Wiedzy o Wrocławiu - 160 lat wrocławskiego ZOO
LOCATION:Rynek 58 | sala 35 | III piętro
DESCRIPTION;ENCODING=QUOTED-PRINTABLE:<p style="text-align: justify;"><span style="font-size: 11pt;">Towarzystwo 
 Miłośników Wrocławia&nbsp;</span><span style="font-size: 11pt;">i&nbsp;</sp
 an><span style="font-size: 11pt;">Dolnośląska Biblioteka Publiczna&nbsp;</s
 pan><span style="font-size: 11pt;">im. Tadeusza Mikulskiego w ramach&nbsp;<
 span style="font-size: 11pt;">cyklu "Wszechnica Wiedzy o Wrocławiu"&nbsp;</
 span></span><span style="font-size: 11pt;">zapraszają na wykład:</span></p>
 <p style="text-align: justify;"><br /><span style="font-size: 11pt;"><stron
 g><span style="color: #000000;">160 LAT ZOO WE WROCŁAWIU</span></strong></s
 pan><br /><span style="font-size: 11pt;"></span>&nbsp;</p><p style="text-al
 ign: justify;"><strong><span style="font-size: 11pt;">8 lipca 2025 r.&nbsp;
  (wtorek) |&nbsp;godz. 17:00<br />DBP, Rynek 58, sala 35</span></strong></p
 ><div><p style="text-align: justify;"><span style="font-size: 11pt;">prelek
 cja&nbsp;</span><span style="font-size: 11pt;">Marty Zając-Ossowskiej,&nbsp
 ;</span><span style="font-size: 11pt;">Dyrektor Generalnej ZOO w latach 202
 3-2024</span></p><p style="text-align: justify;" data-start="55" data-end="
 475"><strong data-start="55" data-end="87">Wrocławski Ogród Zoologiczny</st
 rong> został otwarty 10 lipca 1865 roku na pustym terenie w pobliżu północn
 ego brzegu Odry, w sąsiedztwie toru wyścigów konnych i Parku Szczytnickiego
 . Z miastem łączył go most przerzucony nad odnogą tzw. Starej Odry (poprzed
 nik Mostu Zwierzynieckiego). Pierwszym dyrektorem został przyrodnik i lekar
 z, dr Julius Elwanger. Po nim, do 1945 roku, Ogrodem kierowało jeszcze czte
 rnastu dyrektorów.</p><p style="text-align: justify;" data-start="477" data
 -end="629">Początkowo w Ogrodzie przebywało 189 zwierząt. Wybudowano basztę
  niedźwiedzią, dom dużych drapieżników, słoniarnię, a także pawilony dla ma
 łp i ptaków.</p><p style="text-align: justify;" data-start="631" data-end="
 875">W swojej historii wrocławskie ZOO miało dwie przerwy: w latach 1923–19
 27 (z powodu kryzysu i zubożenia miasta po I wojnie światowej) oraz od kwie
 tnia 1945 roku do lipca 1948 roku (z powodu oblężenia Wrocławia i likwidacj
 i większości zwierząt).</p><p style="text-align: justify;" data-start="877"
  data-end="1012">Po wojnie pierwszym polskim dyrektorem został Karol Łukasi
 ewicz. W 1956 roku Ogród został znacznie powiększony o teren powystawowy „B
 ”.</p><p style="text-align: justify;" data-start="1014" data-end="1358">Dyr
 ektor, dr weterynarii Antoni Gucwiński, kierował placówką od 1965 roku prze
 z prawie 40 lat. Wraz z żoną Hanną rozsławili wrocławskie ZOO dzięki popula
 rnemu programowi telewizyjnemu „Z kamerą wśród zwierząt”. Jego następcą zos
 tał w 2007 roku Radosław Ratajszczak, który przeprowadził gruntowną moderni
 zację Ogrodu, budując m.in. „Afrykarium”.</p></div><div class="attachmentsC
 ontainer">

<div class="dbpAttachmentsList" id="attachmentsList_com_jevents
 _default_2902"></div>

</div>
CONTACT:RegularLabs.EmailProtector.unCloak("ep_82f2a928");
X-EXTRAINFO:wstęp wolny
DTSTAMP:20260419T174148Z
DTSTART;TZID=UTC:20250708T170000
SEQUENCE:0
TRANSP:OPAQUE
END:VEVENT
END:VCALENDAR