BEGIN:VCALENDAR
VERSION:2.0
PRODID:-//jEvents 2.0 for Joomla//EN
CALSCALE:GREGORIAN
METHOD:PUBLISH
BEGIN:VEVENT
UID:cd099ef762e98d5934fd8c7e4b313e6b
CATEGORIES:Dla dorosłych, Spotkanie autorskie, Wykład , Zajęcia dla młodzieży
CREATED:20250527T135809
SUMMARY:Na pograniczu magii i medycyny - ziołolecznictwo w Górach Izerskich i Karkonoszach - wykład Karoliny Rybickiej 
LOCATION:Rynek 58 | sala 35 | III piętro
DESCRIPTION;ENCODING=QUOTED-PRINTABLE:\n\nNA POGRANICZU MAGII I MEDYCYNY -&nbsp;ZIOŁOLECZNICTWO W GÓRACH IZERSKIC
 H I KARKONOSZACH\n\n\nwykład dr Karoliny Rybickiej\n\n\n23 czerwca 2025 (po
 niedziałek) | 17:00\n\n\nSala 35, III piętro\n\n\n&nbsp;\nNajstarsza zachow
 ana wzmianka o ziołolecznictwie w Górach Izerskich i Karkonoszach&nbsp;poch
 odzi z XVI wieku. Zbieraniem roślin oraz przygotowywaniem leczniczych&nbsp;
 medykamentów, a także innych, czasem wręcz magicznych specyfików, zajmowali
  się&nbsp;laboranci. Dysponowali oni wiedzą i umiejętnościami przekazywanym
 i z pokolenia na&nbsp;pokolenie; dopiero z czasem receptury zaczęto spisywa
 ć. Do sporządzania rozmaitych maści,&nbsp;proszków, esencji czy olejów wyko
 rzystywali m.in. strój bobrowy, czarcie łajno czy korzeń arcydzięgla. Labor
 anci poszukiwali również legendarnego korzenia mandragory, kokoryczki&nbsp;
 wonnej, rdestu wężownika oraz kwiatu paproci. Czy udało im się odnaleźć te 
 niezwykłe&nbsp;rośliny?\nDr Karolina Rybicka – archiwistka i historyczka, a
 utorka kilku książek oraz kilkunastu artykułów naukowych. Jej pasją jest od
 krywanie zapomnianych historii regionu.&nbsp;Od kilku lat prowadzi profile 
 „Archiwalny Dolny Śląsk” na Facebooku i Instagramie, gdzie dzieli się fascy
 nującymi opowieściami z przeszłości, prezentuje archiwalne fotografie i prz
 edwojenne kroniki filmowe. Aktywnie popularyzuje historię regionu – prowadz
 i wykłady, tworzy e-booki. Pokazuje, że historia Dolnego Śląska może być ni
 e tylko wartościowa, ale i niezwykle ciekawa – wystarczy spojrzeć na znane 
 miejsca z innej perspektywy. W wolnym czasie odwiedza targi staroci, kolekc
 jonuje pamiątki z czasów Niederschlesien i eksploruje dolnośląskie wsie, o 
 których świat zdążył zapomnieć.\n\n\n&nbsp;\n\n\ne-książki Karoliny Rybicki
 ej: LINK\n\n\n- W ostatnim domu w tej wsi od dawna już nikt nie mieszka. Mi
 ejscowości na Dolnym Śląsku, które przestały istnieć – wybrane przypadki (2
 025).\n\n\n-&nbsp;Schroniska turystyczne Gór i Pogórza Kaczawskiego (2025).
 \n\n\n-&nbsp;Dolny Śląsk. Zarys historii schronisk górskich w Karkonoszach 
 do 1945 roku (2024).\n\n\n-&nbsp;Czarownice i procesy o czary na Dolnym Ślą
 sku. Wybrane przypadki&nbsp;(2024).\n\n\n-&nbsp;Zwierciadło czasu. Wrocław 
 na fotografiach z lat 1945-1950&nbsp;(2024).\n\n\n&nbsp;\n\n\ninstagram: @a
 rchiwalnydolnyslask\n\n\nfacebook: Archiwalny Dolny Śląsk\n




CONTACT:RegularLabs.EmailProtector.unCloak("ep_6898e6ea");
X-EXTRAINFO:wstęp wolny
DTSTAMP:20260419T174003Z
DTSTART;TZID=UTC:20250623T170000
SEQUENCE:0
TRANSP:OPAQUE
END:VEVENT
END:VCALENDAR