BEGIN:VCALENDAR
VERSION:2.0
PRODID:-//jEvents 2.0 for Joomla//EN
CALSCALE:GREGORIAN
METHOD:PUBLISH
BEGIN:VEVENT
UID:bad3c45d877fbee7089a84732ecf750a
CATEGORIES:Dla dorosłych, Impreza dla czytelników
CREATED:20250526T065552
SUMMARY:Dyskusyjny Klub Komiksu "WYKOLEJENI"
LOCATION:Księgarnia Hiszpańska, Uniwersytecka 19/20
DESCRIPTION;ENCODING=QUOTED-PRINTABLE:\n\n\n\n\nDyskusyjny Klub Komiksu Wykolejeni\n\n\n12 czerwca 2025 | 17:30&n
 bsp;\n\n\nKsięgarnia Hiszpańska,&nbsp;Uniwersytecka 19/20\n\n\nW tym miesią
 cu omawiamy:&nbsp;\n- Bibliomulica z Kordoby, L. Chemineau i W. Lupano, Wyd
 . Kultura Gniewu.\n- Kobieta życie wolność, pod red. M. Satrap, Wyd, Timof 
 Comics.&nbsp;\n\nKlub powstał w 2018 r. i od tej pory, nieprzerwanie, łączy
  osoby spragnione rozmów o wartościowych komiksach, powszechnie nazywanych 
 powieścią graficzną.&nbsp;Spotykamy się raz w miesiącu; na bieżąco wybieram
 y omawiane tytuły. Sięgamy zarówno po nowości, jak i komiksy długo obecne n
 a polskim rynku. Współpracujemy z wrocławską Księgarnią Hiszpańską, w które
 j toczą się nasze dyskusje. Popularyzujemy komiks również poza spotkaniami 
 klubu.\n\n\nOpiekunka klubu: Joanna Grzelczyk\n\n\n\n




CONTACT:RegularLabs.EmailProtector.unCloak("ep_75570a2a");
X-EXTRAINFO:wstęp wolny
DTSTAMP:20260419T163438Z
DTSTART;TZID=UTC:20250612T173000
SEQUENCE:0
TRANSP:OPAQUE
END:VEVENT
END:VCALENDAR