BEGIN:VCALENDAR
VERSION:2.0
PRODID:-//jEvents 2.0 for Joomla//EN
CALSCALE:GREGORIAN
METHOD:PUBLISH
BEGIN:VEVENT
UID:f1774bf56f917a89bc2e25d8a9e14a5a
CATEGORIES:Dla dorosłych, Spotkanie autorskie, Wykład 
CREATED:20250523T122455
SUMMARY:Cykl "Promocja wydawców i autorów dolnośląskich": Spotkanie autorskie z dr Karoliną Rybicką
LOCATION:Rynek 58 | sala 35
DESCRIPTION;ENCODING=QUOTED-PRINTABLE:Cykl "Promocja wydawców i autorów dolnośląskich"\nSpotkanie autorskie z dr 
 Karoliną Rybicką\npiątek 27 czerwca | godz. 18:00 | III p. | sala 35\nwstęp
  wolny!\n\nSpotkanie autorskie z dr Karoliną Rybicką, historyczką i archiwi
 stką, która opowie o swoich publikacjach elektronicznych. Poruszy temat sch
 ronisk turystycznych w Karkonoszach oraz Górach i Pogórzu Kaczawskim, proce
 sach o czary na terenie historycznego Dolnego Śląska oraz miejscowości, któ
 re przestały istnieć.\nDr Karolina Rybicka – archiwistka i historyczka. Jej
  zainteresowania badawcze koncentrują się wokół zagadnień związanych z górn
 ictwem rud miedzi na Dolnym Śląsku. Autorka kilku książek oraz kilkunastu a
 rtykułów naukowych. W czasie wolnym odwiedza targi staroci, zbiera przedmio
 ty pamiętające czasy Niederschlesien oraz eksploruje dolnośląskie wsie, o k
 tórych świat zapomniał.\n"Od kilku lat prowadzę na Facebooku i Instagramie 
 profile „Archiwalny Dolny Śląsk”, gdzie opowiadam o fascynujących, intryguj
 ących i zdumiewających wydarzeniach z przeszłości regionu. Pokazuję również
  archiwalne fotografie oraz przedwojenne kroniki filmowe, dokumentujące cod
 zienne życie dawnych mieszkańców tych ziem.\n Popularyzuję historię regionu
  poprzez prowadzenie wykładów oraz przygotowywanie książek elektronicznych 
 poświęconych m.in. schroniskom turystycznym Gór i Pogórza Kaczawskiego, nie
 istniejącym dolnośląskim miejscowościom czy procesom o czary. Udowadniam, ż
 e historia Dolnego Śląska może być ciekawa i wartościowa, bo często nie zda
 jemy sobie sprawy, jak wiele tajemnic kryją miejsca, które wydają się nam d
 oskonale znane".\n\n\n\n\ne-książki Karoliny Rybickiej:&nbsp;LINK\n\n\n- W 
 ostatnim domu w tej wsi od dawna już nikt nie mieszka. Miejscowości na Doln
 ym Śląsku, które przestały istnieć – wybrane przypadki&nbsp;(2025).\n\n\n-&
 nbsp;Schroniska turystyczne Gór i Pogórza Kaczawskiego&nbsp;(2025).\n\n\n-&
 nbsp;Dolny Śląsk. Zarys historii schronisk górskich w Karkonoszach do 1945 
 roku&nbsp;(2024).\n\n\n-&nbsp;Czarownice i procesy o czary na Dolnym Śląsku
 . Wybrane przypadki&nbsp;(2024).\n\n\n-&nbsp;Zwierciadło czasu. Wrocław na 
 fotografiach z lat 1945-1950&nbsp;(2024).\n\n\n\n




CONTACT:RegularLabs.EmailProtector.unCloak("ep_bbfa79d5");
DTSTAMP:20260419T174013Z
DTSTART;TZID=UTC:20250627T180000
SEQUENCE:0
TRANSP:OPAQUE
END:VEVENT
END:VCALENDAR