BEGIN:VCALENDAR
VERSION:2.0
PRODID:-//jEvents 2.0 for Joomla//EN
CALSCALE:GREGORIAN
METHOD:PUBLISH
BEGIN:VEVENT
UID:f15720cb470db2187191ec3555bd93fd
CATEGORIES:Dla dorosłych, Warsztaty dla dorosłych
CREATED:20250430T105240
SUMMARY:Szyjemy z Alą
LOCATION:Rynek 58 | sala 31
DESCRIPTION;ENCODING=QUOTED-PRINTABLE:<p><span style="font-size: 11pt;"><strong>cykl: Szyjemy z Alą</strong></spa
 n></p><p><span style="font-size: 11pt;"><b>Kosmetyczka</b></span></p><p><sp
 an style="font-size: 11pt;"><strong>26 czerwca 2025 r. | godz. 17:00 | sala
  31 (Biblioteka Romańska)</strong></span></p><p><span style="font-size: 11p
 t;"><strong>obowiązują zapisy!</strong></span></p><h3><span style="font-siz
 e: 11pt;">Zapraszamy do Biblioteki Romańskiej na kolejny warsztaty szycia z
  Alą. W ramach spotkania uszyjemy kosmetyczkę. Warsztaty będą też okazją do
  tego, by na chwilę oderwać się od rutyny i z igłą i nitką w ręku wyjść nap
 rzeciw lata.</span></h3><div class="attachmentsContainer">

<div class="dbp
 AttachmentsList" id="attachmentsList_com_jevents_default_2858"></div>

</di
 v>
CONTACT:RegularLabs.EmailProtector.unCloak("ep_bebc0630");
DTSTAMP:20260419T174033Z
DTSTART;TZID=UTC:20250626T170000
DTEND;TZID=UTC:20250626T190000
SEQUENCE:0
TRANSP:OPAQUE
END:VEVENT
END:VCALENDAR