BEGIN:VCALENDAR
VERSION:2.0
PRODID:-//jEvents 2.0 for Joomla//EN
CALSCALE:GREGORIAN
METHOD:PUBLISH
BEGIN:VEVENT
UID:093d28449d5860db3eba670530eaf415
CATEGORIES:Dla dorosłych, Szkolenia dla czytelników, Wykład 
CREATED:20250425T110754
SUMMARY:Depresja w chorobie Parkinsona |  ODWOŁANE
LOCATION:Rynek 58 | sala 35 | III piętro
DESCRIPTION;ENCODING=QUOTED-PRINTABLE:Zarząd Oddziału Wojewódzkiego Polskiego Towarzystwa Walki&nbsp;z Kalectwem 
 we Wrocławiu zaprasza na spotkanie szkoleniowe:&nbsp;DEPRESJA W CHOROBIE PA
 RKINSONA&nbsp;3.07.2025 (czwartek) | 16:00-18:00DBP | Rynek 58 | sala 35wst
 ęp wolny&nbsp;UWAGA! WYDARZENIE ODWOŁANE PRZEZ ORGANIZATORA (TWZK Wrocław) 
 Z POWODU UPAŁÓW.&nbsp;Choroba Parkinsona kojarzona jest przede wszystkim z 
 objawami ruchowymi, takimi jak drżenie czy sztywność mięśni, jednak równie 
 istotnym, a często pomijanym aspektem tej choroby są zaburzenia nastroju — 
 w szczególności depresja.\nZapraszamy na otwarte spotkanie edukacyjne pt. „
 Depresja w chorobie Parkinsona”, które poprowadzi dr Tomasz Wieczorek — spe
 cjalista neurologii z Uniwersyteckiego Szpitala Klinicznego im. Jana Mikuli
 cza-Radeckiego we Wrocławiu.\nW trakcie spotkania uczestnicy dowiedzą się:\
 njak rozpoznać objawy depresji u osób z chorobą Parkinsona,\ndlaczego depre
 sja nie jest tylko „naturalną reakcją” na diagnozę,\njakie są możliwości le
 czenia i wsparcia psychicznego dla pacjentów i ich bliskich.\nTo wyjątkowa 
 okazja, by poszerzyć swoją wiedzę, zadać pytania specjaliście i porozmawiać
  o codziennych wyzwaniach związanych z tą trudną, przewlekłą chorobą.\nZapr
 aszamy osoby chorujące, ich rodziny, opiekunów oraz wszystkich zainteresowa
 nych tematyką zdrowia psychicznego i neurologii.\n&nbsp;\n&nbsp;




CONTACT:502 451 220
X-EXTRAINFO:UWAGA! WYDARZENIE ODWOŁANE\n
DTSTAMP:20260419T174004Z
DTSTART;TZID=UTC:20250703T170000
SEQUENCE:0
TRANSP:OPAQUE
END:VEVENT
END:VCALENDAR