BEGIN:VCALENDAR
VERSION:2.0
PRODID:-//jEvents 2.0 for Joomla//EN
CALSCALE:GREGORIAN
METHOD:PUBLISH
BEGIN:VEVENT
UID:bc01d2191925aced5244a6870d9f76ef
CATEGORIES:Dla dorosłych, Dla dzieci i młodzieży
CREATED:20250425T091111
SUMMARY:Zgrajmy Się! Rozgrywki planszówkowe dla wszystkich w bibliotece  
LOCATION:DBP, Rynek 58, piętro III, sala 35
DESCRIPTION;ENCODING=QUOTED-PRINTABLE:<p><span style="font-size: 11pt;"><strong>Zgrajmy Się! Rozgrywki planszówko
 we dla wszystkich w bibliotece </strong></span></p><div class="default-styl
 e"><span style="font-size: 11pt;"><strong>28 sierpnia 2025 | godz. 16:00-21
 :00 <br /></strong></span></div><div class="default-style"><span style="fon
 t-size: 11pt;"><strong>DBP | Rynek 58<br /></strong></span></div><div class
 ="default-style"><span style="font-size: 11pt;"><strong>wstęp wolny</strong
 ></span></div><div><span style="font-size: 11pt;"></span></div><div><p><spa
 n style="font-size: 11pt;">Zapraszamy na otwarte, comiesięczne spotkania z 
 grami planszowymi, które odbywają się w każdy ostatni czwartek miesiąca od 
 godziny 16:00 do 21:00 w sali 35!</span></p><p><span style="font-size: 11pt
 ;">To świetna okazja, aby:</span></p><ul><li><span style="font-size: 11pt;"
 >Poznać nowe gry planszowe i nauczyć się zasad,</span></li><li><span style=
 "font-size: 11pt;">Spędzić czas w miłym towarzystwie,</span></li><li><span 
 style="font-size: 11pt;">Odkryć tytuły dostępne w naszej kolekcji do wypoży
 czenia.</span></li></ul><p><span style="font-size: 11pt;">Spotkania są otwa
 rte dla wszystkich – bez względu na wiek czy doświadczenie w grach. Możesz 
 przyjść sam, z rodziną lub przyjaciółmi.</span></p><p><span style="font-siz
 e: 11pt;">Chętnie doradzamy przy wyborze gry oraz tłumaczymy zasady.</span>
 </p><p><span style="font-size: 11pt;">Na każdym spotkaniu mamy do zaoferowa
 nia nowe tytuły!</span></p><p><span style="font-size: 11pt;">Do zobaczenia 
 przy planszy!</span></p><p>&nbsp;</p><p><span style="font-size: 11pt;"><str
 ong>Facebook</strong>: <a href="https://www.facebook.com/zgrajmysiewdolnosl
 askiej">Zgrajmy się, planszówki w Bibliotece Dolnośląskiej</a></span></p></
 div><div class="attachmentsContainer">

<div class="dbpAttachmentsList" id=
 "attachmentsList_com_jevents_default_2850"></div>

</div>
CONTACT:RegularLabs.EmailProtector.unCloak("ep_17f59a7a");
DTSTAMP:20260419T174152Z
DTSTART;TZID=UTC:20250828T160000
DTEND;TZID=UTC:20250828T210000
SEQUENCE:0
TRANSP:OPAQUE
END:VEVENT
END:VCALENDAR