BEGIN:VCALENDAR
VERSION:2.0
PRODID:-//jEvents 2.0 for Joomla//EN
CALSCALE:GREGORIAN
METHOD:PUBLISH
BEGIN:VEVENT
UID:5ffa61f3c994a01142125cb553f557b5
CATEGORIES:Dla dorosłych, Biblioteka Romańska dla dorosłych, Warsztaty dla dorosłych
CREATED:20250414T074438
SUMMARY:Krytyczne myślenie / Integracyjny Klub Czytelnika
LOCATION:Rynek 58 | Biblioteka Słowiańska 
DESCRIPTION;ENCODING=QUOTED-PRINTABLE:<div><p>Zapraszamy na wyjątkowe wydarzenie:</p><p><strong>Krytyczne myśleni
 e jako klucz do sukcesu w nauce i karierze</strong><br /><strong>&nbsp;</st
 rong><br /><strong>3 czerwca 2025 r. | godz. 17:00 | Biblioteka Słowiańska,
  III piętro&nbsp;</strong></p></div><div><div><div class="gmail_signature" 
 dir="ltr" data-smartmail="gmail_signature">&nbsp;</div></div></div><div sty
 le="text-align: justify;"><p>Zapraszamy na inspirujące spotkanie, podczas k
 tórego dowiesz się:<br />- czym naprawdę jest krytyczne myślenie,<br />- ja
 k wykorzystać je do podejmowania trafnych decyzji,<br />- jak efektywnie ro
 związywać problemy i analizować sytuacje,<br />- jak te umiejętności przekł
 adają się na sukces w edukacji i pracy.</p><p>To warsztaty, które poszerzą 
 Twoje horyzonty i wyposażą Cię w konkretne narzędzia do skutecznego działan
 ia – zarówno w życiu prywatnym, jak i zawodowym.</p><p>Prowadzący:&nbsp;Kos
 tiantyn Krasnolutsky – doświadczony trener komunikacji biznesowej, coach ka
 riery i szkoleniowiec z wieloletnią praktyką.</p><p>Nie przegap tej okazji,
  by zainwestować w rozwój swojego myślenia!</p><br /><br /><div><div class=
 "gmail_signature" dir="ltr" data-smartmail="gmail_signature"><div dir="ltr"
 ><p>&nbsp;</p></div></div></div></div><div class="attachmentsContainer">

<
 div class="dbpAttachmentsList" id="attachmentsList_com_jevents_default_2844
 "></div>

</div>
CONTACT:RegularLabs.EmailProtector.unCloak("ep_5711f3a7");
DTSTAMP:20260419T174024Z
DTSTART;TZID=UTC:20250603T170000
DTEND;TZID=UTC:20250603T190000
SEQUENCE:0
TRANSP:OPAQUE
END:VEVENT
END:VCALENDAR