BEGIN:VCALENDAR
VERSION:2.0
PRODID:-//jEvents 2.0 for Joomla//EN
CALSCALE:GREGORIAN
METHOD:PUBLISH
BEGIN:VEVENT
UID:0899db7cb3a5b5f693205a2cf72bb36d
CATEGORIES:Spotkanie autorskie
CREATED:20250410T074312
SUMMARY:Spotkanie autorskie: Radosław Wiśniewski 
LOCATION:Rynek 58 | sala 35
DESCRIPTION;ENCODING=QUOTED-PRINTABLE:<p><strong>Spotkanie autorskie z Radosławem Wiśniewskim, autorem książki <e
 m>On uczyni świat lepszym. Listy do Tymoteusza</em></strong></p><p><strong>
 5 czerwca 2025 | 18:00</strong></p><p><strong>wstęp wolny</strong></p><p>&n
 bsp;</p><p>Radosław Wiśniewski – polski poeta, prozaik i publicysta, urodzo
 ny w 1974 roku w Warszawie. Obecnie mieszka i tworzy we Wrocławiu. Ukończył
  psychologię na Uniwersytecie Jagiellońskim. Jest współtwórcą Stowarzyszeni
 a Żywych Poetów z Brzegu.</p><p>Swoją karierę zawodową rozpoczynał jako dzi
 ennikarz, zdobywając doświadczenie w różnych redakcjach, m.in. we wrocławsk
 im miesięczniku „Odra”. Pierwsze publikacje książkowe spotkały się z pozyty
 wnym odbiorem, co pozwoliło mu na dalszy rozwój literacki. Wiśniewski jest 
 autorem licznych tomików poetyckich, esejów oraz artykułów, w których podej
 muje szeroką tematykę – od kultury i literatury, po problemy społeczne i dy
 lematy współczesnego człowieka.</p><p>Jedną z jego najbardziej rozpoznawaln
 ych książek jest „Apokalipsa 1939. Początek”, wydana w 2020 roku przez wyda
 wnictwo Warbook. To powieść historyczna z elementami fikcji literackiej, uk
 azująca dramatyczne wydarzenia przełomu lat 30. i 40. XX wieku – zarówno w 
 wymiarze społecznym, jak i politycznym.</p><p>W 2025 roku ukazała się jego 
 najnowsza publikacja: „<strong>On uczyni świat lepszym. Listy do Tymoteusza
 </strong>”. Książka ma bardzo osobisty charakter – stanowi zbiór listów pis
 anych przez autora przez siedem lat do swojego syna, począwszy od jego naro
 dzin. Pierwotnie publikowane jako posty na Facebooku, listy te poruszają te
 maty wychowania, relacji ojciec–syn, a także filozoficzne refleksje nad świ
 atem i człowiekiem. Przepełnione czułością i wrażliwością, stanowią niezwyk
 ły zapis ojcowskiej troski i dojrzałej refleksji nad rolą rodzica.</p><p>Se
 rdecznie zapraszamy na spotkanie.</p><div class="attachmentsContainer">

<d
 iv class="dbpAttachmentsList" id="attachmentsList_com_jevents_default_2839"
 ></div>

</div>
CONTACT:RegularLabs.EmailProtector.unCloak("ep_0be865de");
DTSTAMP:20260419T174034Z
DTSTART;TZID=UTC:20250605T180000
SEQUENCE:0
TRANSP:OPAQUE
END:VEVENT
END:VCALENDAR