BEGIN:VCALENDAR
VERSION:2.0
PRODID:-//jEvents 2.0 for Joomla//EN
CALSCALE:GREGORIAN
METHOD:PUBLISH
BEGIN:VEVENT
UID:b3df80d559e821d83e503673ed310e2f
CATEGORIES:Dla dorosłych, Spotkanie autorskie
CREATED:20250410T073814
SUMMARY:Spotkanie autorskie: Jolanta Kaleta
LOCATION:Rynek 58 | sala 35
DESCRIPTION;ENCODING=QUOTED-PRINTABLE:<p><span style="font-size: 11pt;"><strong>Spotkanie autorskie z Jolantą Kal
 etą</strong></span></p><p><span style="font-size: 11pt;"><strong>16 czerwca
  2025 | 18:00</strong></span></p><p><strong>wstęp wolny</strong></p><p>&nbs
 p;</p><p>Jolanta Maria Kaleta z urodzenia wrocławianka, z wykształcenia his
 toryczka i politolożka, prywatnie&nbsp;miłośniczka zwierząt i wielbicielka 
 dobrej kuchni, szczególnie pierogów ruskich i naleśników, które sama przyrz
 ądza według przepisu babci.&nbsp;Jest mężatką i ma dorosłego już syna. Woln
 y czas spędza, zwiedzając ciekawe zakątki naszego kraju. Ale jej największą
  pasją jest historia i genealogia, co znalazło odzwierciedlenie w jej twórc
 zości. Zaczęła wydawać stosunkowo późno, bo dopiero od 2012 roku, kiedy zre
 zygnowała z pracy zawodowej i uporała się z opracowaniem rodzinnych dziejów
  na przestrzeni ostatnich wieków. Od tego czasu wydała dwie trylogie histor
 yczne: „Wojna i miłość” i "Tron we krwi", którego bohaterem jest śląski wie
 lmoża Piotr Włostwic oraz 12 powieści sensacyjno-kryminalno-przygodo<wbr />
 wych, których akcja rozgrywa się w czasach Polski Ludowej, a za punkt wyjśc
 ia biorą nierozwiązane do dziś zagadki z czasów II wojny. Niektóre z nich d
 oczekały się ostatnio wznowienia, w tym bestsellerowe Złoto Wrocławia, Test
 ament templariusza czy Strażnik Bursztynowej Komnaty. Najbardziej poszukiwa
 ną jej powieścią pozostaje "Riese, tam gdzie śmierć ma sowie oczy".</p><p>N
 a spotkanie do Dolnośląskiej Biblioteki Publicznej przychodzi ze swoją najn
 owszą książką "Śpiew czerwonych ptaków". To powieść historyczna w stylu pła
 szcza i szpady, która<span class="x193iq5w xeuugli x13faqbe x1vvkbs x1xmvt0
 9 x1lliihq x1s928wv xhkezso x1gmr53x x1cpjm7i x1fgarty x1943h6x xudqn12 x3x
 7a5m x6prxxf xvq8zen xo1l8bm xzsf02u x1yc453h" dir="auto">&nbsp;zabiera Czy
 telników w podróż po XVIII-wiecznej Rzeczpospolitej Obojga Narodów w przedd
 zień jej upadku, w czas konfederacji barskiej. W powieści wydarzenia zmyślo
 ne splatają się z faktami historycznymi, a pomiędzy bohaterami fikcyjnymi, 
 Czytelnicy będą mogli spotkać postacie znane im z lekcji historii.</span></
 p><div class="attachmentsContainer">

<div class="dbpAttachmentsList" id="a
 ttachmentsList_com_jevents_default_2838"></div>

</div>
CONTACT:RegularLabs.EmailProtector.unCloak("ep_4a6e2840");
X-EXTRAINFO:wstęp wolny
DTSTAMP:20260419T174137Z
DTSTART;TZID=UTC:20250616T180000
SEQUENCE:0
TRANSP:OPAQUE
END:VEVENT
END:VCALENDAR