BEGIN:VCALENDAR
VERSION:2.0
PRODID:-//jEvents 2.0 for Joomla//EN
CALSCALE:GREGORIAN
METHOD:PUBLISH
BEGIN:VEVENT
UID:7d18bb85fc2738f26a516537320ae55a
CATEGORIES:Dla dorosłych, Spotkanie autorskie
CREATED:20250410T073139
SUMMARY:Spotkanie autorskie: Alicja Jarkowska
LOCATION:Rynek 58 | sala 35
DESCRIPTION;ENCODING=QUOTED-PRINTABLE:\n\nSpotkanie autorskie z Alicją Jarkowską, autorką książki „Brunatna pajęc
 zyna. Agenci Gestapo w okupowanym Krakowie i ich powojenne losy”\n\n\npopro
 wadzi: dr Michał Grochowski\n\n\n30 maja 2025 | 18:00&nbsp;\n\n\nDBP | Ryne
 k 58 | sala 35\n\n\nwstęp wolny&nbsp;\n\nAlicja Jarkowska to polska history
 czka i judaistka pracująca w Instytucie Historii Uniwersytetu Jagiellońskie
 go. Specjalizuje się w historii XX-wiecznej Polski, a szczególnie historii 
 Żydów i relacji polsko-żydowskich. Charakteryzuje ją rzetelny warsztat bada
 wczy, a także odwaga w podejmowaniu trudnych tematów. Jej osiągnięcia zosta
 ły docenione poprzez przyznanie pierwszej nagrody w konkursie im. prof. Tom
 asza Strzembosza za najlepszą książkę dotyczącą najnowszej historii Polski 
 (2019) oraz nominację do Nagrody Naukowej „Polityki” w tym samym roku. Jest
  stypendystką Claims Conference, Fondation pour la Mémoire de la Shoah i Na
 rodowego Centrum Nauki. Odbyła również staż naukowy w Yad Vashem.\nW 2016 r
 oku wraz z Martyną Rusiniak-Karwat wydała publikację zawierającą tytuły pra
 sowe wydawane przez Bund i jego młodzieżową organizację Cukunft w getcie wa
 rszawskim w latach 1940–1942. Artykuły przedstawiają codzienność w getcie p
 od okupacją niemiecką.\nDwa lata później ukazała się jej autorska książka h
 istoryczna Wymuszona współpraca czy zdrada? Wokół przypadków kolaboracji Ży
 dów w okupowanym Krakowie. Co ciekawe w tej publikacji, to jej podstawą był
 y materiały śledcze i procesowe dotyczące kolaboracji polskich i żydowskich
  mieszkańców Krakowa oraz dochodzenia w sprawie niemieckich policjantów i u
 rzędników w czasie okupacji działających w mieście.\nPod koniec 2024 roku h
 istoryczka wydała książkę Brunatna pajęczyna. Agenci Gestapo w okupowanym K
 rakowie i ich powojenne losy. To publikacja, która odsłania mało znany, a n
 iezwykle ważny fragment historii okupowanego Krakowa. Autorka przedstawia l
 osy kolaborantów i agentów Gestapo, rekonstruując ich działalność na podsta
 wie archiwalnych dokumentów, zeznań świadków oraz niepublikowanych dotąd ma
 teriałów. Co szczególnie istotne, Jarkowska śledzi także powojenne losy tyc
 h osób – ich próby adaptacji, ucieczki przed odpowiedzialnością i czasem za
 skakujące kariery w powojennej Polsce.\n




CONTACT:RegularLabs.EmailProtector.unCloak("ep_a79766f7");
DTSTAMP:20260419T173854Z
DTSTART;TZID=UTC:20250530T180000
SEQUENCE:0
TRANSP:OPAQUE
END:VEVENT
END:VCALENDAR