BEGIN:VCALENDAR
VERSION:2.0
PRODID:-//jEvents 2.0 for Joomla//EN
CALSCALE:GREGORIAN
METHOD:PUBLISH
BEGIN:VEVENT
UID:46105f9952c1c8517463d5e84edb7956
CATEGORIES:Dla dorosłych, Spotkanie autorskie
CREATED:20250410T072336
SUMMARY:Spotkanie autorskie: Agnieszka Kołodyńska-Walków
LOCATION:Rynek 58 | sala 35 
DESCRIPTION;ENCODING=QUOTED-PRINTABLE:<p><strong>Spotkanie autorskie z Agnieszką Kołodyńską-Walków</strong></p><p
 ><strong>15 maja 2025 | 18:00</strong></p><p><strong>wstęp wolny</strong></
 p><p><br />Agnieszka Kołodyńska-Walków to wrocławska artystka pisarka, któr
 ej twórczość wyróżnia się ciepłem, autentycznością i umiejętnym łączeniem h
 istorii rodzinnych z elementami kulinarnymi i społecznymi. Z wykształcenia 
 jest iberystką, kilka lat pracowała m.in. jako dziennikarka we wrocławskim 
 oddziale „Gazety Wyborczej”. Prowadziła również swój blog kulinarny sniezka
 gotuje.pl, na którym pisała głównie o kuchni rumuńskiej. <br />Z racji zain
 teresowań Rumunią i tamtejszymi kulinariami w 2021 roku ukazała się jej ksi
 ążka Przy rumuńskim stole. Agnieszka Kołodyńska-Walków przeplata w niej opo
 wiadania rodzinne o poszukiwaniu korzeni z czterdziestoma najbardziej chara
 kterystycznymi daniami tego regionu Europy uzupełnionymi zdjęciami potraw.<
 br />Na początku 2025 roku ukazała się jej najnowsza książka <em>Chłopiec z
 e starej fotografii</em> wydana przez wydawnictwo Amaltea. To poruszająca o
 powieść osadzona we Wrocławiu, skupiająca się na powojennych losach mieszka
 ńców miasta i tajemnicy ukrytej w przedwojennej fotografii. Główna bohaterk
 a, dziennikarka Marianna, wyrusza na trop mężczyzny, który po wojnie próbow
 ał odciąć się od przeszłości, by chronić swoje dzieci. W tej detektywistycz
 nej, ale i emocjonalnej podróży towarzyszą jej nietuzinkowi pomocnicy – nau
 czyciel tańca oraz córka fotografa z fotograficzną pamięcią. Całość dopełni
 ają przepisy kulinarne, które stanowią tło dla opowiadanej historii.</p><di
 v class="attachmentsContainer">

<div class="dbpAttachmentsList" id="attach
 mentsList_com_jevents_default_2836"></div>

</div>
CONTACT:RegularLabs.EmailProtector.unCloak("ep_6b0b7c30");
DTSTAMP:20260419T174025Z
DTSTART;TZID=UTC:20250515T180000
SEQUENCE:0
TRANSP:OPAQUE
END:VEVENT
END:VCALENDAR