BEGIN:VCALENDAR
VERSION:2.0
PRODID:-//jEvents 2.0 for Joomla//EN
CALSCALE:GREGORIAN
METHOD:PUBLISH
BEGIN:VEVENT
UID:7b7d00ea33c16d9caeca8cc856b8e279
CATEGORIES:Dla dorosłych, Biblioteka Romańska dla dorosłych
CREATED:20250407T075516
SUMMARY:Club de discusión
LOCATION:Rynek 58 | Biblioteka Romańska | III piętro
DESCRIPTION;ENCODING=QUOTED-PRINTABLE:<p><strong>Club de conversation</strong></p><p class="default-style"><stron
 g>5 czerwca 2025 | godz. 17:00<br /> </strong></p><p class="default-style">
 <strong>DBP | Rynek 58 | III piętro | Biblioteka Romańska</strong></p><p><s
 trong>wstęp wolny, obowiązują zapisy</strong></p><p>&nbsp;<br /><br />Szuka
 sz okazji do rozmów w języku hiszpańskim? Zapraszamy do klubu dyskusyjnego 
 Biblioteki Romańskiej. Będziemy rozmawiać na różne tematy dotyczące kultury
  krajów hiszpańskiego obszaru językowego i życia codziennego.</p><p>Uwaga: 
 zapraszamy na spotkanie osoby ze znajomością języka hiszpańskiego na poziom
 ie umożliwiającym samodzielną komunikację<br /><br />Prosimy o zgłoszenie c
 hęci uczestnictwa pod adresem <!-- This email address is being protected fr
 om spambots. --><a href="javascript:/* This email address is being protecte
 d from spambots.*/"><span class="cloaked_email ep_0e848fdb"><span data-ep-b
 ="" data-ep-a="&#114;&#111;m&#97;"><span data-ep-a="&#110;&#115;ka" data-ep
 -b="&#99;&#46;&#112;&#108;"><span data-ep-a="&#64;wbp" data-ep-b="&#46;&#11
 9;r&#111;"></span></span></span></span><script>RegularLabs.EmailProtector.u
 nCloak("ep_0e848fdb");</script><span class="cloaked_email ep_f567e675" styl
 e="display:none;"><span data-ep-a="rom&#97;" data-ep-b=""><span data-ep-a="
 &#110;&#115;&#107;&#97;" data-ep-b="c&#46;&#112;l"><span data-ep-a="&#64;&#
 119;&#98;&#112;" data-ep-b="&#46;&#119;&#114;&#111;"></span></span></span><
 /span></a><script>RegularLabs.EmailProtector.unCloak("ep_f567e675", true);<
 /script>. <br /><br /></p><p>¿Estás buscando oportunidades para hablar más 
 en español? Te invitamos al club de discusión de la Biblioteca Románica. Ha
 blaremos de diversos temas relativos a la cultura de los países hispanohabl
 antes y la vida cotidiana.</p><p>Nota: Para participar en las reuniones se 
 requiere un nivel de español que permita una comunicación autosuficiente.</
 p><p>Si quieres venir, por favor, envíanos un mensaje a&nbsp;<!-- This emai
 l address is being protected from spambots. --><a href="javascript:/* This 
 email address is being protected from spambots.*/"><span class="cloaked_ema
 il ep_97f055ff"><span data-ep-b="" data-ep-a="&#114;oma"><span data-ep-b="&
 #99;&#46;&#112;l" data-ep-a="&#110;&#115;k&#97;"><span data-ep-b="&#46;&#11
 9;r&#111;" data-ep-a="&#64;&#119;&#98;&#112;"></span></span></span></span><
 script>RegularLabs.EmailProtector.unCloak("ep_97f055ff");</script><span cla
 ss="cloaked_email ep_4968c47f" style="display:none;"><span data-ep-b="" dat
 a-ep-a="r&#111;&#109;a"><span data-ep-a="&#110;&#115;&#107;a" data-ep-b="&#
 99;&#46;p&#108;"><span data-ep-b=".&#119;&#114;o" data-ep-a="&#64;wb&#112;"
 ></span></span></span></span></a><script>RegularLabs.EmailProtector.unCloak
 ("ep_4968c47f", true);</script>.</p><div class="attachmentsContainer">

<di
 v class="dbpAttachmentsList" id="attachmentsList_com_jevents_default_2832">
 </div>

</div>
CONTACT:RegularLabs.EmailProtector.unCloak("ep_254250ec");
DTSTAMP:20260419T174024Z
DTSTART;TZID=UTC:20250605T170000
DTEND;TZID=UTC:20250605T183000
SEQUENCE:0
TRANSP:OPAQUE
END:VEVENT
END:VCALENDAR