BEGIN:VCALENDAR
VERSION:2.0
PRODID:-//jEvents 2.0 for Joomla//EN
CALSCALE:GREGORIAN
METHOD:PUBLISH
BEGIN:VEVENT
UID:cff665d4d8d470d5b8e9bbb9584f257d
CATEGORIES:Dla dorosłych, Biblioteka Romańska dla dorosłych, Spotkanie autorskie
CREATED:20250401T131951
SUMMARY:Spotkanie autorskie Aliaksandr Karnaukh
LOCATION:Rynek 58 | Biblioteka Słowiańska 
DESCRIPTION;ENCODING=QUOTED-PRINTABLE:<p><span style="font-size: 11pt;"><strong>Spotkanie autorskie</strong></spa
 n></p><p><span style="font-size: 11pt;"><strong>Aliaksandr Karnaukh&nbsp;</
 strong></span></p><p id="tw-target-text" class="tw-data-text tw-text-large 
 tw-ta" dir="ltr" data-placeholder="Tłumaczenie" aria-label="Przetłumaczony 
 tekst" data-ved="2ahUKEwjk55nP8oKGAxWcPxAIHYRHCxMQ3ewLegQIBRAU"><span style
 ="font-size: 11pt;"><strong><span class="Y2IQFc" lang="pl">Premiera książki
  "Chołodne ziemie"</span></strong></span></p><p><span style="font-size: 11p
 t;"><strong>20 maja 2025 r. | godz. 17:30 | sala 31 (Biblioteka Slowiańska)
 </strong></span></p><p><span style="font-size: 11pt;"><strong>Wstęp wolny</
 strong></span></p><p>&nbsp;</p><p style="text-align: justify;">Dolnośląska 
 Biblioteka Publiczna we Wrocławiu oraz Wydawnictwo Gutenberg serdecznie zap
 raszają na spotkanie autorskie z Aliaksandrem Karnaukhem z okazji premiery 
 książki „Chołodne ziemie”. To wyjątkowa okazja, by poznać autora osobiście,
  posłuchać o kulisach powstawania książki, porozmawiać o pamięci, historii 
 i tożsamości oraz zadać własne pytania. W trakcie spotkania będzie również 
 możliwość zakupu książki i otrzymania autografu. Zapraszamy wszystkich miło
 śników literatury współczesnej i głębokich, poruszających historii.</p><p s
 tyle="text-align: justify;"><br />Ніжнесілезская публічная бібліятэка ў Вро
 цлаве і Выдавецтва Gutenberg шчыра запрашаюць на сустрэчу з пісьменнікам Ал
 яксандрам Карнаўхом з нагоды выхаду кнігі «Халодныя землі». Гэта ўнікальная
  магчымасць асабіста пазнаёміцца з аўтарам, пачуць гісторыю стварэння кнігі
 , паразмаўляць пра памяць, гісторыю і ідэнтычнасць, а таксама задаць свае п
 ытанні. Падчас сустрэчы можна будзе набыць кнігу і атрымаць аўтограф. Запра
 шаем усіх аматараў сучаснай літаратуры і глыбокіх, кранальных гісторый.</p>
 <p>&nbsp;</p><p>&nbsp;</p><div class="attachmentsContainer">

<div class="d
 bpAttachmentsList" id="attachmentsList_com_jevents_default_2830"></div>

</
 div>
CONTACT:RegularLabs.EmailProtector.unCloak("ep_1629cf7c");
X-EXTRAINFO:wstęp wolny\nspotkanie w języku białoruskim\n
DTSTAMP:20260419T174025Z
DTSTART;TZID=UTC:20250520T173000
DTEND;TZID=UTC:20250520T190000
SEQUENCE:0
TRANSP:OPAQUE
END:VEVENT
END:VCALENDAR