BEGIN:VCALENDAR
VERSION:2.0
PRODID:-//jEvents 2.0 for Joomla//EN
CALSCALE:GREGORIAN
METHOD:PUBLISH
BEGIN:VEVENT
UID:5ac376085556e2fa9e5d76370513cef6
CATEGORIES:Dla dorosłych, Biblioteka Romańska dla dorosłych, Warsztaty dla dorosłych
CREATED:20250401T125618
SUMMARY:Kaligrafia / Integracyjny Klub Czytelnika 
LOCATION:Rynek 58 | sala 31
DESCRIPTION;ENCODING=QUOTED-PRINTABLE:\n\nWarsztaty kaligraficzne\n\n\n6 maja 2025 r. | godz. 15:00 | sala 31 (Bi
 blioteka Słowiańska)\n\n\n&nbsp;\n\n\nobowiązują zapisy:RegularLabs.EmailPr
 otector.unCloak("ep_7df9b638", true);RegularLabs.EmailProtector.unCloak("ep
 _b1cd65e5", true);RegularLabs.EmailProtector.unCloak("ep_814d6761");Regular
 Labs.EmailProtector.unCloak("ep_b2e09fee", true);&nbsp;(w wiadomości prosim
 y podać nr karty bibliotecznej)\n&nbsp;\n\nKaligrafia&nbsp;to sztuka piękne
 go pisania, która może być zarówno relaksującym hobby, jak i umiejętnością 
 przydatną w wielu dziedzinach. Na warsztatach poznamy wskazówki pomocne dla
  osób chcących zacząć przygodę z nauką kaligrafowania.\n\n\nNauka kaligrafi
 i kształtuje charakter oraz cierpliwość. Kaligrafia, czyli ręczne pisanie t
 o nie tylko forma sztuki. To także dobry trening uważności, cierpliwości, o
 panowania i pokory. Ćwiczenie odręcznego pisania to jednoczesne ćwiczenie p
 amięci i wiedzy, bo gdy piszemy, zapamiętujemy słowa.\n\n\nSerdecznie zapra
 szamy!\n




CONTACT:RegularLabs.EmailProtector.unCloak("ep_1af7c2fe");
X-EXTRAINFO:obowiązują zapisy: RegularLabs.EmailProtector.unCloak("ep_19cd1653");
DTSTAMP:20260419T174331Z
DTSTART;TZID=UTC:20250506T150000
DTEND;TZID=UTC:20250506T163000
SEQUENCE:0
TRANSP:OPAQUE
END:VEVENT
END:VCALENDAR